{"text_format":"1","workbook":"xlsx","n_sheets":14,"sheets":["Forside","Vejledning","Info","Resultatoversigt","Klimaskærm","TRY","Vinduer","Ventilatorskift + Remtræk","Luftmængde + Veksler","Ventilation remtræk","Belysning","Solceller","Køl","Tabel for nødvendig energiforb."],"not_rendered":{"charts":0,"images":14,"macros":1,"external_links":1,"defined_names":35,"comments":2,"pivot_tables":0},"unopened":[],"bounds":{"document_bytes":16777216,"sheet_cells":100000,"rows_first":2000,"rows_last":500,"rows_between":2000,"halvings":0,"cell_chars":16384,"cell_head_chars":4096},"cells_cut":0,"cells_raw":0,"read":"whole","date_system":"1900"}

{"sheet":"Forside","index":0,"n_rows":0,"n_cols":0,"rows_kept":0,"cut":false,"hidden":false,"merged":[]}

{"sheet":"Vejledning","index":1,"n_rows":3,"n_cols":2,"rows_kept":3,"cut":false,"hidden":false,"merged":[]}
[]
[]
[null,"Dobbeltklik på billedet heruder for at åbne vejledningen:"]

{"sheet":"Info","index":2,"n_rows":19,"n_cols":2,"rows_kept":19,"cut":false,"hidden":false,"merged":[[1,0,1,5],[14,0,14,6]]}
[]
["Bygnings- og kontaktoplysninger"]
[]
["Adresse:"]
["Post nr. :"]
["By:"]
["Kontakt person:"]
["Tlf. nr.:"]
[]
["Opførelsesår:"]
["Areal (etageareal):",2000]
["Opvarmningsform:","Fjernvarme"]
[]
[]
["Priser på energikilde"]
[]
["Energikilde","Pris pr. kWh"]
["El",1.6]
[{"$f":"IF(B12=\"Vælg\",\"Vælg opvarmningsform\",B12)","v":"Fjernvarme"},0.45]

{"sheet":"Resultatoversigt","index":3,"n_rows":14,"n_cols":25,"rows_kept":14,"cut":false,"hidden":false,"merged":[[0,24,0,25],[0,18,0,19],[0,1,0,2],[0,4,0,5],[0,7,0,8],[0,10,0,11],[0,14,0,15]]}
[null,"Klimaskærm",null,null,"Vinduer",null,null,"Ventilatorskift + Remtræk",null,null,"Luftmængde + Veksler",null,null,null,"Belysning",null,null,null,"Solceller",null,null,null,null,null,"Køling"]
[]
[null,null,null,null,null,null,null,null,null,null,null,null,null,null,null,null,null,null,"Årlig energiforbrug [kWh]",225000]
[null,null,null,null,null,null,null,null,null,null,null,null,null,null,null,null,null,null,"Retning","Syd Vest"]
[null,null,null,null,null,null,null,null,null,null,null,null,null,null,null,null,null,null,"- retning i forhold til syd (0°)",45]
[null,null,null,null,null,null,null,null,null,null,null,null,null,null,null,null,null,null,"Hældning",30]
[null,null,null,null,null,null,null,null,null,null,null,null,null,null,null,null,null,null,"Dækningsgrad af solceller [%]",0.3]
[null,null,null,null,null,null,null,null,null,null,null,null,null,null,null,null,null,null,"Areal af solcelleanlæg ",299.87647488246643]
[null,null,null,null,null,null,null,null,null,null,null,null,null,null,null,null,null,null,"Energikilde","El"]
[null,null,null,null,null,null,null,null,null,null,null,null,null,null,null,null,null,null,"Pris pr. kWh",1.6]
[null,null,null,null,null,null,null,null,null,null,null,null,null,null,null,null,null,null,"Økonomisk besparelse",108000]
[null,null,null,null,null,null,null,null,null,null,null,null,null,null,null,null,null,null,"Investering (anslået)",899629.42464739922]
[null,null,null,null,null,null,null,null,null,null,null,null,null,null,null,null,null,null,"Investering"]
[null,null,null,null,null,null,null,null,null,null,null,null,null,null,null,null,null,null,"Tilbagebetalingstid",8.3299020800685106]

{"sheet":"Klimaskærm","index":4,"n_rows":125,"n_cols":29,"rows_kept":125,"cut":false,"hidden":false,"merged":[[35,6,35,13],[11,6,11,13],[35,16,35,24],[11,16,11,24]]}
["Årgang","1960-1980",null,null,null,null,null,null,null,null,null,null,null,"Opslagsliste efterisolering"]
["Byggeri",{"$f":"IFERROR(VLOOKUP(B1,A37:B112,2,FALSE),\"\")","v":"Industrialiseret byggeri"},null,null,null,null,null,null,null,null,null,null,null,1,{"$f":"IFERROR(INDEX($F$15:$N$15,MATCH($N2,$F$11:$N$11,0)),\"\")","v":""}]
["Type","Loft",null,null,null,null,null,null,null,null,null,null,null,2,""]
["Konstruktion","8\" bjælkelag med 50 mm indskudsler på indskudsbrædder ",null,null,null,null,null,null,null,null,null,null,null,3,""]
["Areal",3168,null,null,null,null,null,null,null,null,null,null,null,4,""]
["Efterisolering","150 mm",null,null,null,null,null,null,null,null,null,null,null,5,""]
["Energibesparelse",{"$f":"IFERROR((HLOOKUP(B6,$F$15:$N$27,MATCH(B4,E16:E27,0)+1,FALSE))*B5,\"\")","v":""},null,null,null,null,null,null,null,null,null,null,null,6,""]
["Energikilde",{"$f":"Info!$B$12","v":"Fjernvarme"},null,null,null,null,null,null,null,null,null,null,null,7,""]
["Pris pr. kWh",{"$f":"IFERROR(VLOOKUP(B8,Info!$A$18:$B$22,2,FALSE),\"\")","v":0.45},null,null,null,null,null,null,null,null,null,null,null,8,""]
["Økonomisk besparelse",{"$f":"IFERROR(B7*B9,\"\")","v":""},null,null,null,null,null,null,null,null,null,null,null,9,""]
["Investering (anslået)",{"$f":"IFERROR(IF(B12>0,\"\",((HLOOKUP(B6,$Q$15:$Y$27,MATCH(B4,E16:E27,0)+1,FALSE))*B5)),\"\")","v":""},null,null,null,{"$f":"IF(F13=\"\",\"\",MAX(E$11:$E11)+1)","v":""},{"$f":"IF(G13=\"\",\"\",MAX($E$11:F11)+1)","v":""},{"$f":"IF(H13=\"\",\"\",MAX($E$11:G11)+1)","v":""},{"$f":"IF(I13=\"\",\"\",MAX($E$11:H11)+1)","v":""},{"$f":"IF(J13=\"\",\"\",MAX($E$11:I11)+1)","v":""},{"$f":"IF(K13=\"\",\"\",MAX($E$11:J11)+1)","v":""},{"$f":"IF(L13=\"\",\"\",MAX($E$11:K11)+1)","v":""},{"$f":"IF(M13=\"\",\"\",MAX($E$11:L11)+1)","v":""},{"$f":"IF(N13=\"\",\"\",MAX($E$11:M11)+1)","v":""}]
["Investering",null,null,null,null,null,"Efterisolering",null,null,null,null,null,null,null,null,null,"Investering [kr./m²]"]
["Tilbagebetalingstid",{"$f":"IFERROR(IF(B12>0,B12/B10,B11/B10),\"\")","v":""},null,null,null,{"$f":"IF(SUMIFS(F16:F25,Konstruktion,$B$4)>0,F15,\"\")","v":""},"","","","","","","","",null,null,{"$f":"IF(SUMIFS(Q16:Q25,Konstruktion,$B$4)>0,Q15,\"\")","v":""},"","","","","","","",""]
["Årgang","Byggeri","Type",null,"Konstruktion",{"$f":"IFERROR(IF(OR(F16:F25)>0,F15,\"\"),\"\")","v":""},{"$f":"IFERROR(IF(OR(G16:G25)>0,G15,\"\"),\"\")","v":""},"","","","","","","",null,null,{"$f":"IFERROR(IF(OR(Q16:Q25)>0,Q15,\"\"),\"\")","v":""},{"$f":"IFERROR(IF(OR(R16:R25)>0,R15,\"\"),\"\")","v":""},"","","","","","",""]
[null,null,null,null,null,"70 mm","75 mm","100 mm ","125 mm","130 mm","150 mm","200 mm","225 mm","300 mm",null,null,"70 mm","75 mm","100 mm ","125 mm","130 mm","150 mm","200 mm","225 mm","300 mm"]
[{"$f":"IF(E16=\"\",\"\",(VLOOKUP($B$1,$A$38:$N$113,1,FALSE)))","v":""},{"$f":"IF(E16=\"\",\"\",(VLOOKUP($B$2,$B$38:$N$113,1,FALSE)))","v":""},{"$f":"IF(E16=\"\",\"\",((VLOOKUP($B$3,$C$38:$N$113,1,FALSE))))","v":""},1,{"$f":"IFERROR(VLOOKUP(D16,$D$38:$E$113,2,FALSE),\"\")","v":""},{"$f":"IFERROR(IF((VLOOKUP($D16,$D$38:$N$113,MATCH(F$15,Efterisolering,0)+2,FALSE))=0,\"\",(VLOOKUP($D16,$D$38:$N$113,MATCH(F$15,Efterisolering,0)+2,FALSE))),\"\")","v":""},"","","","","","","","",null,null,{"$f":"IFERROR(IF((VLOOKUP($D16,$D$38:$Y$113,MATCH(Q$15,Efterisolering,0)+13,FALSE))=0,\"\",(VLOOKUP($D16,$D$38:$Y$113,MATCH(Q$15,Efterisolering,0)+13,FALSE))),\"\")","v":""},"","","","","","","",""]
["","","",2,"","","","","","","","","","",null,null,"","","","","","","","",""]
["","","",3,"","","","","","","","","","",null,null,"","","","","","","","",""]
["","","",4,"","","","","","","","","","",null,null,"","","","","","","","",""]
["","","",5,"","","","","","","","","","",null,null,"","","","","","","","",""]
["","","",6,"","","","","","","","","","",null,null,"","","","","","","","",""]
["","","",7,"","","","","","","","","","",null,null,"","","","","","","","",""]
["","","",8,"","","","","","","","","","",null,null,"","","","","","","","",""]
["","","",9,"","","","","","","","","","",null,null,"","","","","","","","",""]
["","","",10,"","","","","","","","","","",null,null,"","","","","","","","",""]
["","","",11,"","","","","","","","","","",null,null,"","","","","","","","",""]
["","","",12,"","","","","","","","","","",null,null,"","","","","","","","",""]
[]
[]
[]
[]
[]
[]
[]
[]
[null,null,null,null,null,null,"Tykkelse på tilføjet efterisolering i skråvægge \nEnergibesparelse i kWh/m² pr. år.",null,null,null,null,null,null,null,null,null,"Investering [kr./m²]"]
["Årgang","Byggeri","Konstruktion",null,"Eksisterende forhold og isoleringstykkelse","70 mm","75 mm","100 mm ","125 mm","130 mm","150 mm","200 mm","225 mm","300 mm",null,null,"70 mm","75 mm","100 mm ","125 mm","130 mm","150 mm","200 mm","225 mm","300 mm"]
["1850-1920","Ældre muret byggeri","Skråvægge",{"$f":"COUNTIFS(A38,$B$1,B38,$B$2,C38,$B$3)+IF(AND(C38=$B$3,A38=$B$1),D37,0)","v":0},"Spærhøjde 200 mm, brædder, strå og puds",null,null,null,null,null,160,null,null,null,null,null,null,null,null,null,null,350]
["1850-1920","Ældre muret byggeri","Skråvægge",0,"Spærhøjde 175 mm, brædder, strå og puds",null,null,null,156,null,null,null,null,null,null,null,null,null,null,315]
["1850-1920","Ældre muret byggeri","Skråvægge",0,"Spærhøjde 150 mm, brædder, strå og puds",null,null,150,null,null,null,null,null,null,null,null,null,null,280]
["1850-1920","Ældre muret byggeri","Skråvægge",0,"Spærhøjde 125 mm, brædder, strå og puds",null,142,null,null,null,null,null,null,null,null,null,null,250]
["1850-1920","Ældre muret byggeri","Skråvægge",{"$f":"COUNTIFS(A42,$B$1,B42,$B$2,C42,$B$3)+IF(AND(C42=$B$3,A42=$B$1),D41,0)","v":0},"Efterisolering i forbindelse med ombygning",null,{"$f":"($O$42-0.44)*8027*10.1/1000","v":142.68795200000002},{"$f":"($O$42-0.35)*8027*10.1/1000","v":149.98449499999998},{"$f":"($O$42-0.29)*8027*10.1/1000","v":154.84885700000001},null,{"$f":"($O$42-0.25)*8027*10.1/1000","v":158.09176500000001},{"$f":"($O$42-0.18)*8027*10.1/1000","v":163.766854},{"$f":"($O$42-0.16)*8027*10.1/1000","v":165.38830799999999},{"$f":"($O$42-0.12)*8027*10.1/1000","v":168.63121599999999},2.2000000000000002,null,null,150,180,215,null,250,320,350,400]
["1850-1920","Ældre muret byggeri","Loft",{"$f":"COUNTIFS(A43,$B$1,B43,$B$2,C43,$B$3)+IF(AND(C43=$B$3,A43=$B$1),D41,0)","v":0},"10\" bjælkelag med 50 mm indskudsler på indskudsbrædder ",null,null,null,null,null,93,null,null,null,null,null,null,null,null,null,null,250]
["1850-1920","Ældre muret byggeri","Loft",0,"9\" bjælkelag med 50 mm indskudsler på indskudsbrædder ",null,null,null,87,null,null,null,null,null,null,null,null,null,null,215]
["1850-1920","Ældre muret byggeri","Loft",0,"8\" bjælkelag med 50 mm indskudsler på indskudsbrædder ",null,null,80,null,null,null,null,null,null,null,null,null,null,180]
["1850-1920","Ældre muret byggeri","Loft",0,"7\" bjælkelag med 50 mm indskudsler på indskudsbrædder ",null,72,null,null,null,null,null,null,null,null,null,null,150]
["1850-1920","Ældre muret byggeri","Loft",{"$f":"COUNTIFS(A47,$B$1,B47,$B$2,C47,$B$3)+IF(AND(C47=$B$3,A47=$B$1),D46,0)","v":0},"Efterisolering i forbindelse med ombygning [HB2016 værdier + TRY]",null,{"$f":"($O$47-0.44)*8027*10.1/1000","v":83.504880999999997},{"$f":"($O$47-0.35)*8027*10.1/1000","v":90.801424000000011},{"$f":"($O$47-0.29)*8027*10.1/1000","v":95.665785999999983},null,{"$f":"($O$47-0.25)*8027*10.1/1000","v":98.908693999999997},{"$f":"($O$47-0.18)*8027*10.1/1000","v":104.583783},{"$f":"($O$47-0.16)*8027*10.1/1000","v":106.20523700000001},{"$f":"($O$47-0.12)*8027*10.1/1000","v":109.44814500000001},1.47,null,null,150,180,215,null,250,320,350,400]
["1850-1920","Ældre muret byggeri","Indvendig efterisolering (tung ydervæg)",{"$f":"COUNTIFS(A48,$B$1,B48,$B$2,C48,$B$3)+IF(AND(C48=$B$3,A48=$B$1),D46,0)","v":0},"3 stens væg uden isolering",null,33,null,null,null,42,null,null,null,null,null,null,1500,null,null,null,1700,null,null,null,null,null,null,"Indvendig efterisolering med 200 mm isolering på massive ydervægge. Arbejdet udføres iht. gældende regler på området, hvad angår materialekrav samt placering og udførelse af dampspærre. I forbindelse med arbejdet, skal der udføres nye lysninger og bundstykker ved vinduer, og tekniske installationer føres med ud i ny væg."]
["1850-1920","Ældre muret byggeri","Indvendig efterisolering (tung ydervæg)",0,"3 stens væg med 50 mm isolering",null,null,null,null,null,19,null,null,null,null,null,null,null,null,null,null,1700]
["1850-1920","Ældre muret byggeri","Indvendig efterisolering (tung ydervæg)",0,"2½ stens væg uden isolering",null,41,null,null,null,51,null,null,null,null,null,null,1500,null,null,null,1700]
["1850-1920","Ældre muret byggeri","Indvendig efterisolering (tung ydervæg)",0,"2½ stens væg med 50 mm isolering",null,null,null,null,null,21,null,null,null,null,null,null,null,null,null,null,1700]
["1850-1920","Ældre muret byggeri","Indvendig efterisolering (tung ydervæg)",0,"2 stens væg uden isolering",null,53,null,null,null,65,null,null,null,null,null,null,1500,null,null,null,1700]
["1850-1920","Ældre muret byggeri","Indvendig efterisolering (tung ydervæg)",0,"2 stens væg med 50 mm isolering",null,null,null,null,null,24,null,null,null,null,null,null,null,null,null,null,1700]
["1850-1920","Ældre muret byggeri","Indvendig efterisolering (tung ydervæg)",0,"1½ stens væg uden isolering",null,71,null,null,null,83,null,null,null,null,null,null,1500,null,null,null,1700]
["1850-1920","Ældre muret byggeri","Indvendig efterisolering (tung ydervæg)",0,"1½ stens væg med 50 mm isolering",null,null,null,null,null,28,null,null,null,null,null,null,null,null,null,null,1700]
["1920-1960","Nyere muret byggeri","Indvendig efterisolering (tung ydervæg)",0,"1½ stens massiv væg",null,71,null,null,null,83,null,null,null,null,null,null,1500,null,null,null,1700]
["1920-1960","Nyere muret byggeri","Indvendig efterisolering (tung ydervæg)",0,"1½ stens massiv væg med 50 mm isolering",null,null,null,null,null,28,null,null,null,null,null,null,null,null,null,null,1700]
["1920-1960","Nyere muret byggeri","Indvendig efterisolering (tung ydervæg)",0,"1½ stens massiv væg med bagmur i lecasten",null,57,null,null,null,66,null,null,null,null,null,null,1500,null,null,null,1700]
["1920-1960","Nyere muret byggeri","Indvendig efterisolering (tung ydervæg)",0,"1½ stens massiv væg med 50 mm isolering",null,null,null,null,null,28,null,null,null,null,null,null,null,null,null,null,1700]
["1920-1960","Nyere muret byggeri","Indvendig efterisolering (tung ydervæg)",0,"1½ stens væg med faste bindere på. 600 mm uden isolering",null,100,null,null,null,115,null,null,null,null,null,null,1500,null,null,null,1700]
["1920-1960","Nyere muret byggeri","Indvendig efterisolering (tung ydervæg)",0,"1½ stens væg med faste bindere pr. 600 mm med hulmursisolering (130 mm)",null,27,null,null,null,37,null,null,null,null,null,null,1500,null,null,null,1700]
["1920-1960","Nyere muret byggeri","Indvendig efterisolering (tung ydervæg)",0,"1¼ stens massiv væg",null,83,null,null,null,95,null,null,null,null,null,null,1500,null,null,null,1700]
["1920-1960","Nyere muret byggeri","Indvendig efterisolering (tung ydervæg)",0,"1¼ stens massiv væg med 50 mm isolering",null,null,null,null,null,30,null,null,null,null,null,null,null,null,null,null,1700]
["1920-1960","Nyere muret byggeri","Indvendig efterisolering (tung ydervæg)",0,"1¼ stens væg med faste bindinger pr. 600 mm uden isolering",null,100,null,null,null,115,null,null,null,null,null,null,1500,null,null,null,1700]
["1920-1960","Nyere muret byggeri","Indvendig efterisolering (tung ydervæg)",0,"1¼ stens væg med faste bindinger pr. 600 mm med 70 mm isolering",null,53,null,null,null,66,null,null,null,null,null,null,1500,null,null,null,1700]
["1920-1960","Nyere muret byggeri","Indvendig efterisolering (tung ydervæg)",0,"1 stens væg massiv væg",null,100,null,null,null,115,null,null,null,null,null,null,1500,null,null,null,1700]
["1920-1960","Nyere muret byggeri","Indvendig efterisolering (tung ydervæg)",0,"1 stens massiv væg med 50 mm isolering",null,null,null,null,null,33,null,null,null,null,null,null,null,null,null,null,1700]
["1850-1920","Ældre muret byggeri","Indvendig (Brystninger)",0,"1 stens væg uden isolering",null,100,null,null,null,115,null,null,null,null,null,null,1500,null,null,null,1700]
["1850-1920","Ældre muret byggeri","Indvendig (Brystninger)",0,"1 stens væg med 50 mm isolering",null,null,null,null,null,33,null,null,null,null,null,null,null,null,null,null,1700]
["1850-1920","Ældre muret byggeri","Indvendig (Brystninger)",0,"½ stens væg uden isolering",null,158,null,null,null,175,null,null,null,null,null,null,1500,null,null,null,1700]
["1850-1920","Ældre muret byggeri","Indvendig (Brystninger)",0,"½ stens væg med 50 mm isolering",null,null,null,null,null,39,null,null,null,null,null,null,null,null,null,null,1700]
["1920-1960","Nyere muret byggeri","Indvendig (Brystninger)",0,"1 stens væg uden isolering",null,100,null,null,null,115,null,null,null,null,null,null,1500,null,null,null,1700]
["1920-1960","Nyere muret byggeri","Indvendig (Brystninger)",0,"1 stens væg med 50 mm isolering",null,null,null,null,null,33,null,null,null,null,null,null,null,null,null,null,1700]
["1920-1960","Nyere muret byggeri","Indvendig (Brystninger)",0,"½ stens væg ude isolering",null,158,null,null,null,175,null,null,null,null,null,null,1500,null,null,null,1700,null,null,null,null,null,null,"Udvendig efterisolering med 200 mm isolering på massive ydervægge. Den udvendige efterisolering afsluttes med en facadepudsløsning eller en hertil godkendt pladebeklædning. Vinduerne skal muligvis flyttes med ud i facaderne eller alternativt udskiftes helt i forbindelse hermed. En udvendig isoleringsløsning sikrer optimal kuldebroafbrydelse. Facadernes udseende ændres dog markant, og det skal forinden arbejdet igangsættes undersøges, om lokale bestemmelser evt. hindrer en sådan ændring i bygningens udseende."]
["1920-1960","Nyere muret byggeri","Indvendig (Brystninger)",0,"½ stens væg med 50 mm isolering",null,null,null,null,null,39,null,null,null,null,null,null,null,null,null,null,1700]
["1960-1980","Industrialiseret byggeri","Indvendig (Brystninger)",0,"50 mm",null,null,null,47,null,null,null,54,null,null,null,null,null,null,1850,null,null,null,2050]
["1960-1980","Industrialiseret byggeri","Indvendig (Brystninger)",0,"70 mm",null,null,null,32,null,null,null,38,null,null,null,null,null,null,1850,null,null,null,2050]
["1960-1980","Industrialiseret byggeri","Indvendig (Brystninger)",0,"100 mm",null,null,null,21,null,null,null,26,null,null,null,null,null,null,1850,null,null,null,2050]
["1920-1960","Nyere muret byggeri","Hulmur",0,"1½ stens væg med faste bindere pr. 600mm med hulmursisolering (130 mm)",null,null,null,null,79,null,null,null,null,null,null,null,null,null,null,250]
["1920-1960","Nyere muret byggeri","Hulmur",0,"1½ stens væg med faste bindere pr. 600mm med hulmursisolering (130 mm) med 50 cm isolering (indv.)",null,null,null,null,16,null,null,null,null,null,null,null,null,null,null,250]
["1920-1960","Nyere muret byggeri","Hulmur",0,"1¼ stens væg med faste bindinger pr.600 mm uden isolering",61,null,null,null,null,null,null,null,null,null,null,200]
["1920-1960","Nyere muret byggeri","Hulmur",0,"1¼ stens væg med faste bindinger pr.600 mm med 50 mm isolering (indv)",12,null,null,null,null,null,null,null,null,null,null,200]
["1850-1920","Ældre muret byggeri","Udvendig (Tung ydervæg)",0,"2 stens væg uden isolering",null,null,null,61,null,null,null,68,null,null,null,null,null,null,1850,null,null,null,2050,null,null,null,null,"Indvendig efterisolering af hulrumsisolerede ydervægge af tegl med 100 mm isolering i ny forsatsvæg. Arbejdet udføres iht. gældende regler på området, hvad angår materialekrav samt placering og udførelse af dampspærre. I forbindelse med arbejdet, skal der udføres nye lysninger og bundstykker ved vinduer, og tekniske installationer føres med ud i ny væg. Det bør i øvrigt undersøges om isoleringsarbejdet kan medføre dannelse af skimmelsvampe bag isoleringen."]
["1850-1920","Ældre muret byggeri","Udvendig (Tung ydervæg)",0,"2 stens væg med 50 mm isolering",null,null,null,27,null,null,null,33,null,null,null,null,null,null,1850,null,null,null,2050]
["1850-1920","Ældre muret byggeri","Udvendig (Tung ydervæg)",0,"1½ stens væg uden isolering",null,null,null,79,null,null,null,87,null,null,null,null,null,null,1850,null,null,null,2050]
["1850-1920","Ældre muret byggeri","Udvendig (Tung ydervæg)",0,"1½ stens væg med 50 mm isolering",null,null,null,31,null,null,null,38,null,null,null,null,null,null,1850,null,null,null,2050]
["1850-1920","Ældre muret byggeri","Udvendig (Tung ydervæg)",0,"1 stens væg uden isolering",null,null,null,110,null,null,null,118,null,null,null,null,null,null,1850,null,null,null,2050]
["1850-1920","Ældre muret byggeri","Udvendig (Tung ydervæg)",0,"1 stens væg med 50 mm isolering",null,null,null,36,null,null,null,44,null,null,null,null,null,null,1850,null,null,null,2050]
["1920-1960","Nyere muret byggeri","Udvendig (Tung ydervæg)",0,"1½ stens massiv væg",null,null,null,79,null,null,null,88,null,null,null,null,null,null,1850,null,null,null,2050]
["1920-1960","Nyere muret byggeri","Udvendig (Tung ydervæg)",0,"1½ stens massiv væg med 50 mm isolering",null,null,null,31,null,null,null,37,null,null,null,null,null,null,1850,null,null,null,2050]
["1920-1960","Nyere muret byggeri","Udvendig (Tung ydervæg)",0,"1½ stens massiv væg med bagmur i lecasten",null,null,null,63,null,null,null,72,null,null,null,null,null,null,1850,null,null,null,2050]
["1920-1960","Nyere muret byggeri","Udvendig (Tung ydervæg)",0,"1½ stens massiv væg med 50 mm isolering",null,null,null,31,null,null,null,37,null,null,null,null,null,null,1850,null,null,null,2050]
["1920-1960","Nyere muret byggeri","Udvendig (Tung ydervæg)",0,"1½ stens væg med faste bindere pr. 600 mm uden isolering",null,null,null,79,null,null,null,89,null,null,null,null,null,null,1850,null,null,null,2050]
["1920-1960","Nyere muret byggeri","Udvendig (Tung ydervæg)",0,"1½ stens væg med faste bindere pr. 600 mm med hulmursisolering (130 mm)",null,null,null,34,null,null,null,40,null,null,null,null,null,null,1850,null,null,null,2050]
["1920-1960","Nyere muret byggeri","Udvendig (Tung ydervæg)",{"$f":"COUNTIFS(A95,$B$1,B95,$B$2,C95,$B$3)+IF(AND(C95=$B$3,A95=$B$1),D94,0)","v":0},"1¼ stens massiv væg",null,null,null,91,null,null,null,100,null,null,null,null,null,null,1850,null,null,null,2050]
["1920-1960","Nyere muret byggeri","Udvendig (Tung ydervæg)",0,"1¼ stens massiv væg med 50 mm isolering",null,null,null,32,null,null,null,38,null,null,null,null,null,null,1850,null,null,null,2050]
["1920-1960","Nyere muret byggeri","Udvendig (Tung ydervæg)",0,"1¼ stens væg med faste bindinger pr. 600 mm uden isolering",null,null,null,92,null,null,null,110,null,null,null,null,null,null,1850,null,null,null,2050]
["1920-1960","Nyere muret byggeri","Udvendig (Tung ydervæg)",0,"1¼ stens væg med faste bindinger pr. 600 mm med 70 mm isolering",null,null,null,66,null,null,null,74,null,null,null,null,null,null,1850,null,null,null,2050]
["1920-1960","Nyere muret byggeri","Udvendig (Tung ydervæg)",0,"1 stens væg massiv væg",null,null,null,69,null,null,null,78,null,null,null,null,null,null,1850,null,null,null,2050]
["1920-1960","Nyere muret byggeri","Udvendig (Tung ydervæg)",0,"1 stens massiv væg med 50 mm isolering",null,null,null,35,null,null,null,41,null,null,null,null,null,null,1850,null,null,null,2050]
["1920-1960","Nyere muret byggeri","Kældervæg",0,"300 mm beton uden isolering",null,null,null,null,null,null,149,null,154,null,null,null,null,null,null,null,null,1700,null,2000]
["1920-1960","Nyere muret byggeri","Kældervæg",0,"350 mm beton uden isolering",null,null,null,null,null,null,143,null,148,null,null,null,null,null,null,null,null,1700,null,2000]
["1960-1980","Industrialiseret byggeri","Kældervæg",0,"250 mm beton uden isolering",null,null,null,null,null,null,155,null,160,null,null,null,null,null,null,null,null,1700,null,2000]
["1960-1980","Industrialiseret byggeri","Kældervæg",0,"300 mm beton uden isolering",null,null,null,null,null,null,149,null,154,null,null,null,null,null,null,null,null,1700,null,2000]
["1960-1980","Industrialiseret byggeri","Kældervæg",0,"350 mm beton uden isolering",null,null,null,null,null,null,143,null,148,null,null,null,null,null,null,null,null,1700,null,2000,null,null,null,"Udvendig efterisolering med 200 mm isoleringsplader på kælderydervægge. Der skal anvendes et godkendt efterisoleringsprodukt til kælderydervægge. Arbejdet bør udføres i sammenhæng med isolering af samtlige kælderydervæggearealer, placeret både under og over terræn. De samlede isoleringsarbejder skal derfor udføres til så stor dybde som muligt, dog ikke dybere end kældervægsfundamentet. Normalt mindst svarende til samme niveau som underside af indvendigt kældergulv for at bryde kuldebroen. Efter opsætning af den udvendige isolering, udføres der en regntæt inddækning øverst på efterisoleringen. Den skal udformes, så vand der løber ned ad facaden, bliver bortledt fra væggene effektivt. Hvis der ikke forefindes et omfangsdræn, bør dette etableres i forbindelse med efterisoleringsarbejdet."]
["1960-1980","Industrialiseret byggeri","Kældervæg",0,"400 mm beton uden isolering",null,null,null,null,null,null,138,null,143,null,null,null,null,null,null,null,null,1700,null,2000]
["1850-1920","Ældre muret byggeri","Kældervæg",0,"1½ stens kældervæg uden isolering",null,null,null,null,null,null,111,null,116,null,null,null,null,null,null,null,null,1700,null,2000]
["1850-1920","Ældre muret byggeri","Kældervæg",0,"3 stens kældervæg uden isolering",null,null,null,null,null,null,74,null,79,null,null,null,null,null,null,null,null,1700,null,2000]
["1850-1920","Ældre muret byggeri","Kældervæg",0,"3½ stens kældervæg uden isolering",null,null,null,null,null,null,67,null,71,null,null,null,null,null,null,null,null,1700,null,2000]
["1850-1920","Ældre muret byggeri","Kældervæg",0,"250 mm beton uden isolering",null,null,null,null,null,null,155,null,160,null,null,null,null,null,null,null,null,1700,null,2000]
["1850-1920","Ældre muret byggeri","Kældervæg",0,"300 mm beton uden isolering",null,null,null,null,null,null,149,null,154,null,null,null,null,null,null,null,null,1700,null,2000]
["1850-1920","Ældre muret byggeri","Kældervæg",0,"350 mm beton uden isolering",null,null,null,null,null,null,143,null,148,null,null,null,null,null,null,null,null,1700,null,2000]
["1850-1920","Ældre muret byggeri","Kældervæg",0,"400 mm beton uden isolering",null,null,null,null,null,null,138,null,143,null,null,null,null,null,null,null,null,1700,null,2000]
[]
[]
[]
[null,"Årgang","Type","1850-1920","1920-1960","1960-1980"]
[null,"Vælg","Vælg"]
[null,"1850-1920",{"$f":"IF((HLOOKUP($B$1,$D$117:$F$125,3,FALSE))=0,\"\",HLOOKUP($B$1,$D$117:$F$125,3,FALSE))","v":"Indvendig (Brystninger)"},"Skråvægge","Indvendig efterisolering (tung ydervæg)","Indvendig (Brystninger)"]
[null,"1920-1960",{"$f":"IF((HLOOKUP($B$1,$D$117:$F$125,4,FALSE))=0,\"\",HLOOKUP($B$1,$D$117:$F$125,4,FALSE))","v":"Kældervæg"},"Loft","Indvendig (Brystninger)","Kældervæg"]
[null,"1960-1980",{"$f":"IF((HLOOKUP($B$1,$D$117:$F$125,5,FALSE))=0,\"\",HLOOKUP($B$1,$D$117:$F$125,5,FALSE))","v":""},"Indvendig efterisolering (tung ydervæg)","Hulmur"]
[null,null,{"$f":"IF((HLOOKUP($B$1,$D$117:$F$125,6,FALSE))=0,\"\",HLOOKUP($B$1,$D$117:$F$125,6,FALSE))","v":""},"Indvendig (Brystninger)","Udvendig (Tung ydervæg)"]
[null,null,{"$f":"IF((HLOOKUP($B$1,$D$117:$F$125,7,FALSE))=0,\"\",HLOOKUP($B$1,$D$117:$F$125,7,FALSE))","v":""},"Udvendig (Tung ydervæg)","Kældervæg"]
[null,null,{"$f":"IF((HLOOKUP($B$1,$D$117:$F$125,8,FALSE))=0,\"\",HLOOKUP($B$1,$D$117:$F$125,8,FALSE))","v":""},"Kældervæg"]
[null,null,{"$f":"IF((HLOOKUP($B$1,$D$117:$F$125,9,FALSE))=0,\"\",HLOOKUP($B$1,$D$117:$F$125,9,FALSE))","v":""}]

{"sheet":"TRY","index":5,"n_rows":39,"n_cols":32,"rows_kept":39,"cut":false,"hidden":true,"merged":[[11,15,11,16],[11,24,11,25]]}
["TRY referanceår "]
["TRY er en forkortelse af Test Reference Year. I Danmark benyttes TRY som oftest som betegnelse for Dansk Referenceår TRY (Andersen m.fl., 1982)."]
[]
[]
[]
[]
[]
[]
[]
[]
[]
[null,null,null,null,null,null,null,null,null,null,null,null,null,null,null,"Døgnet",null,"Middel","Timer",null,null,null,null,null,"kl.8-15",null,"Middel","Timer"]
[null,null,null,null,null,null,null,null,null,null,null,null,null,null,null,30,27,{"$f":"AVERAGE(P13:Q13)","v":28.5},5,null,{"$f":"R13*S13","v":142.5},null,null,null,30,27,{"$f":"AVERAGE(Y13:Z13)","v":28.5},4,null,{"$f":"AA13*AB13","v":114}]
[null,null,null,null,null,null,null,null,null,null,null,null,null,null,null,27,24,{"$f":"AVERAGE(P14:Q14)","v":25.5},67,null,{"$f":"R14*S14","v":1708.5},null,null,null,27,24,{"$f":"AVERAGE(Y14:Z14)","v":25.5},45,null,{"$f":"AA14*AB14","v":1147.5}]
[null,null,null,null,null,null,null,null,null,null,null,null,null,null,null,24,21,22.5,149,null,3352.5,null,null,null,24,21,22.5,98,null,2205]
[null,null,null,null,null,null,null,null,null,null,null,null,null,null,null,21,18,19.5,512,null,9984,null,null,null,21,18,19.5,296,null,5772]
[null,null,null,null,null,null,null,null,null,null,null,null,null,null,null,18,15,16.5,1019,null,16813.5,null,null,null,18,15,16.5,441,null,7276.5]
[null,null,null,null,null,null,null,null,null,null,null,null,null,null,null,15,12,13.5,1296,null,17496,null,null,null,15,12,13.5,339,null,4576.5]
[null,null,null,null,null,null,null,null,null,null,null,null,null,null,null,12,9,10.5,960,null,10080,null,null,null,12,9,10.5,250,null,2625]
[null,null,null,null,null,null,null,null,null,null,null,null,null,null,null,9,6,7.5,994,null,7455,null,null,null,9,6,7.5,351,null,2632.5]
[null,null,null,null,null,null,null,null,null,null,null,null,null,null,null,6,3,4.5,1123,null,5053.5,null,null,null,6,3,4.5,366,null,1647]
[null,null,null,null,null,null,null,null,null,null,null,null,null,null,null,3,0,1.5,1456,null,2184,null,null,null,3,0,1.5,419,null,628.5]
[null,null,null,null,null,null,null,null,null,null,null,null,null,null,null,0,-3,-1.5,749,null,-1123.5,null,null,null,0,-3,-1.5,191,null,-286.5]
[null,null,null,null,null,null,null,null,null,null,null,null,null,null,null,-3,-6,-4.5,250,null,-1125,null,null,null,-3,-6,-4.5,83,null,-373.5]
[null,null,null,null,null,null,null,null,null,null,null,null,null,null,null,-6,-9,-7.5,153,null,-1147.5,null,null,null,-6,-9,-7.5,31,null,-232.5]
[null,null,null,null,null,null,null,null,null,null,null,null,null,null,null,-9,-12,-10.5,17,null,-178.5,null,null,null,-9,-12,-10.5,2,null,-21]
[null,null,null,null,null,null,null,null,null,null,null,null,null,null,null,-12,-15,-13.5,8,null,-108,null,null,null,-12,-15,-13.5,3,null,-40.5]
[null,null,null,null,null,null,null,null,null,null,null,null,null,null,null,-15,-16,-15.5,2,null,-31,null,null,null,-15,-16,-15.5,1,null,-15.5]
[null,null,null,null,null,null,null,null,null,null,null,null,null,null,null,null,null,null,{"$f":"SUM(S13:S28)","v":8760},null,null,null,null,null,null,null,null,{"$f":"SUM(AB13:AB28)","v":2920}]
[null,null,null,null,null,null,null,null,null,null,null,null,null,null,null,null,null,null,null,"Setpunkt",17]
[null,null,null,null,null,null,null,null,null,null,null,null,null,null,null,null,null,null,null,null,"Under SP","Over SP"]
[null,null,null,null,null,null,null,null,null,null,null,null,null,null,null,null,null,null,null,"Timer",{"$f":"SUMIF(TRY!$R$13:$R$28,\"<\"&$U$30,$S$13:$S$28)","v":8027},{"$f":"SUMIF(TRY!$R$13:$R$28,\">\"&$U$30,$S$13:$S$28)","v":733},null,null,null,null,null,null,"Middel",3.8677077195050087,17.245707277187243,"°C"]
[null,null,null,null,null,null,null,null,null,null,null,null,null,null,null,null,null,null,null,"Middel",{"$f":"SUMIF(TRY!$R$13:$R$28,\"<\"&U30,TRY!$U$13:$U$28)/SUMIF(TRY!$R$13:$R$28,\"<\"&U30,TRY!$S$13:$S$28)","v":6.8977824841161084},{"$f":"SUMIF(TRY!$R$13:$R$28,\">\"&U30,TRY!$U$13:$U$28)/SUMIF(TRY!$R$13:$R$28,\">\"&U30,TRY!$S$13:$S$28)","v":20.719645293315143},"°C"]
[null,null,null,null,null,null,null,null,null,null,null,null,null,null,null,null,null,null,null,"Differens",{"$f":"U30-U33","v":10.102217515883892},{"$f":"U30-V33","v":-3.7196452933151427}]
[]
[]
[]
[]
["Kilde: Statens byggeforskningsinstitut. SBI-rapport 89. København 1974. Vejrdata for VVS-tekniske beregninger - Referenceår. Meteorological Data for Design of Building and Installation: A Reference Year"]

{"sheet":"Vinduer","index":6,"n_rows":37,"n_cols":12,"rows_kept":37,"cut":false,"hidden":false,"merged":[[19,1,19,2],[19,3,19,4],[31,1,31,4]]}
[]
["Vinduer "]
["Vinduesareal. "]
["Eksisterende vindues type","Vælg",null,null,null,null,null,null,"Udskiftning af eksisterende rude med ny  energiglas.",1800,"kr./m²"]
["Nyt vinduestype ","Vælg",null,null,null,null,null,null,"Udskiftning af eksisterende rude med ny 2 lags energirude og varm kant.",2000,"kr./m²"]
["Årlig energibesparelse ",{"$f":"IFERROR(VLOOKUP(B4,A22:E27,MATCH(B5,B21:E21,0)+1,FALSE)*B3,\"\")","v":""},null,null,null,null,null,null,"Udskiftning af eksisterende vindue med ny 2 lags energirude og varm kant. (hele vinduet)",4000,"kr./m²"]
["Energikilde",{"$f":"Info!$B$12","v":"Fjernvarme"},null,null,null,null,null,null,"Udskiftning af eksisterende rude med ny 3 lags energirude og varm kant. (hele vinduet)",4000,"kr./m²"]
["Pris pr. kWh",{"$f":"IFERROR(VLOOKUP(B7,Info!A18:B22,2,FALSE),\"\")","v":0.45}]
["Økonomisk besparelse",{"$f":"IFERROR(B6*B8,\"\")","v":""}]
["Investering (anslået)",{"$f":"IFERROR(IF(B11>0,\"\",(IF(B6>0,HLOOKUP(B5,B21:E29,9,FALSE)*B3,\"\"))),\"\")","v":""}]
["Investering"]
["Tilbagebetalingstid",{"$f":"IFERROR(IF(B11>0,B11/B9,B10/B9),\"\")","v":""}]
[]
[null,null," "]
[]
[]
[]
[]
[]
[null,"Indvendig forbedring",null,"Udskiftning"]
["Vælg","Indvendig forbedring + 1 energi","Indvendig forbedring + 2 energi","Udskiftning - 2 energi","Udskiftning - 3 energi"]
["Vinduer/døre med 1 lag glas",246,281,284,310,null,null,null,null,null,null,"Vinduer/døre med 1 lag glas, forbedring med koblet ramme / forsatsvindue"]
["Vinduer/døre med 2 lag glas (koblede/forsatsvinduer)",52,87,111,137,null,null,null,null,null,null,"Vinduer/døre med 2 lag glas (koblede/forsatsvinduer) - ved forbedring udskiftes inderste rude"]
["Vinduer/døre med 2 lags termoruder\n(vinduesudskiftning)",null,null,145,171,null,null,null,null,null,null,"Vinduer/døre med 2 lags termoruder, vinduesudskiftning"]
["Vinduer/døre med 2 lags termoruder\n(rude udskiftning)",null,null,104,130,null,null,null,null,null,null,"Vinduer/døre med 2 lags termoruder, udskiftning af ruder"]
["Vinduer/døre med 3 lag glas / energiruder < 1995\n(vinduesudskiftning)",null,null,85,111,null,null,null,null,null,null,"Vinduer/døre med 3 lag glas / energiruder < 1995, vinduesudskiftning"]
["Vinduer/døre med 3 lag glas / energiruder < 1995 \n(rude udskiftning)",null,null,43,69,null,null,null,null,null,null,"Vinduer/døre med 3 lag glas / energiruder < 1995, udskiftning af ruder"]
[]
["Pris pr. m²",1800,2000,4000,4000]
[]
["Energibesparelser i kWh/m2/år ved forbedring og udskiftning af vinduer, døre, ovenlys og glaspartier"]
[null,"Opslagsliste"]
["Vælg",{"$f":"IFERROR(INDEX($B$36:$E$36,MATCH(B34,$B$35:$E$35,0)),\"\")","v":""},{"$f":"IFERROR(INDEX($B$36:$E$36,MATCH(C34,$B$35:$E$35,0)),\"\")","v":""},{"$f":"IFERROR(INDEX($B$36:$E$36,MATCH(D34,$B$35:$E$35,0)),\"\")","v":""},{"$f":"IFERROR(INDEX($B$36:$E$36,MATCH(E34,$B$35:$E$35,0)),\"\")","v":""}]
[null,1,2,3,4]
[null,{"$f":"IF(B36=\"\",\"\",MAX($A$35:A35)+1)","v":{"$error":"#N/A"}},{"$f":"IF(C36=\"\",\"\",MAX($A$35:B35)+1)","v":{"$error":"#N/A"}},{"$f":"IF(D36=\"\",\"\",MAX($A$35:C35)+1)","v":{"$error":"#N/A"}},{"$f":"IF(E36=\"\",\"\",MAX($A$35:D35)+1)","v":{"$error":"#N/A"}}]
[null,{"$f":"IF(B37>0,B21,\"\")","v":{"$error":"#N/A"}},{"$f":"IF(C37>0,C21,\"\")","v":{"$error":"#N/A"}},{"$f":"IF(D37>0,D21,\"\")","v":{"$error":"#N/A"}},{"$f":"IF(E37>0,E21,\"\")","v":{"$error":"#N/A"}}]
[null,{"$f":"VLOOKUP($B$4,$A$22:$E$27,2,FALSE)","v":{"$error":"#N/A"}},{"$f":"VLOOKUP($B$4,$A$22:$E$27,3,FALSE)","v":{"$error":"#N/A"}},{"$f":"VLOOKUP($B$4,$A$22:$E$27,4,FALSE)","v":{"$error":"#N/A"}},{"$f":"VLOOKUP($B$4,$A$22:$E$27,5,FALSE)","v":{"$error":"#N/A"}}]

{"sheet":"Ventilatorskift + Remtræk","index":7,"n_rows":125,"n_cols":33,"rows_kept":125,"cut":false,"hidden":false,"merged":[[19,9,19,14],[101,4,101,13],[50,4,50,13],[50,16,50,25],[67,4,67,13],[67,16,67,25],[84,4,84,13],[84,16,84,25]]}
[]
[]
["Motorstørrelse",5]
["Før: I drift fra kl.:","05:00:00"]
["Før: I drift til kl.:","10:00:00"]
["Før: Timer pr. dag",{"$f":"IFERROR((B5-B4)*24,\"\")","v":5.000000000000016}]
["Før: Dage pr. år",220]
["Før: Driftstimer",{"$f":"IFERROR(B6*B7,\"\")","v":1100.0000000000034}]
["Efter: I drift fra kl.:","05:00:00"]
["Efter: I drift til kl.:","10:00:00"]
["Efter: Timer pr. dag",{"$f":"IFERROR((B10-B9)*24,\"\")","v":5.000000000000016}]
["Efter: Dage pr. år",220]
["Efter: Driftstimer",{"$f":"IFERROR(IF(B12=\"\",\"\",B11*B12),\"\")","v":1100.0000000000034}]
["Remtræk gl.","Remtræk med én almindelig kilerem"]
["Typisk virkningsgrad",0.96]
["Remtræk ny. ","Direkte trukket "]
["Typisk virkningsgrad",1]
[{"$f":"D51","v":"Trykstigning [Pa]"},800]
[{"$f":"E51","v":"Volumenstrøm [m3/s]"},8,null,null,null,null,null,null,1,2,3,4,5,6,7]
["Volumenstrøm [m3/h]",{"$f":"IFERROR(B19*3600,\"\")","v":28800},null,null,null,null,null,null,"Vælg","Typiske virkningsgrader\n[%]"]
["F-hjul",0.55000000000000004,null,null,null,null,null,null,"Remtræk med én almindelig kilerem",0.93,0.94,0.95,0.96,0.97,0.98]
[{"$f":"\"- Effektforbrug [kW]\"","v":"- Effektforbrug [kW]"},{"$f":"IFERROR(IF(B21=0.55,VLOOKUP($B$18,Fhjul55,MATCH($B$19,Volumenstrøm)+1),IF(B21=0.65,VLOOKUP($B$18,Fhjul65,MATCH($B$19,Volumenstrøm)+1),\"\")),\"\")","v":16.908404005178195},null,null,null,null,null,null,"Remtræk med flere almindelig kilerem",0.9,0.91,0.92,0.93]
["B-hjul",0.85,null,null,null,null,null,null,"Remtræk med formfortandet kilerem",0.96,0.97,0.98]
[{"$f":"\"- Effektforbrug [kW]\"","v":"- Effektforbrug [kW]"},{"$f":"IFERROR(IF(B23=0.75,VLOOKUP($B$18,Bhjul75,MATCH($B$19,Volumenstrøm)+1),IF(B23=0.85,VLOOKUP($B$18,Bhjul85,MATCH($B$19,Volumenstrøm)+1),\"\")),\"\")","v":10.940732003350599},null,null,null,null,null,null,"Poly-V rem",0.97,0.98,0.99]
["Driftstimer",{"$f":"IFERROR(B6*B7,\"\")","v":1100.0000000000034},null,null,null,null,null,null,"Fladremstræk",0.97,0.98,0.99]
["Energibesparelse [kWh/år]",{"$f":"IFERROR((IFERROR((B22-B24)*(IF(B13=\"\",B8,B13)),0))+IFERROR(B3*(B8-B13),0)+IFERROR((IF((B3*(IF(B13=\"\",B8,B13))*(B17-B15))<0,\"\",(B3*(IF(B13=\"\",B8,B13))*(B17-B15)))),0),\"\")","v":6784.4392020103769},null,null,null,null,null,null,"Tandremstræk",0.97,0.98,0.99]
["Energikilde","El",null,null,null,null,null,null,"Direkte trukket ",1]
["Pris pr. kWh",{"$f":"IFERROR(VLOOKUP(B27,Info!A18:B22,2,FALSE),\"\")","v":1.6}]
["Økonomisk besparelse",{"$f":"IFERROR(B26*B28,\"\")","v":10855.102723216603}]
["Investering",50000,null,null,null,null,null,"Gl","Vælg",{"$f":"IFERROR(IF(VLOOKUP($B$14,$I$21:$O$27,J19,FALSE)=0,\"\",VLOOKUP($B$14,$I$21:$O$27,J19,FALSE)),\"\")","v":0.93},0.94,0.95,0.96,0.97,0.98]
["Tilbagebetalingstid",{"$f":"IFERROR(B30/B29,\"\")","v":4.6061286820493494},null,null,null,null,null,"Ny","Vælg",{"$f":"IFERROR(IF(VLOOKUP($B$16,$I$21:$O$27,J19,FALSE)=0,\"\",VLOOKUP($B$16,$I$21:$O$27,J19,FALSE)),\"\")","v":1},"","","","",""]
[]
[]
[]
[]
[]
[]
[]
[]
[]
[]
[]
[]
[]
[]
[]
[]
[]
[]
[null,null,null,"Radialventilator med F-hjul worst case 55% virkninsgrad",null,null,null,null,null,null,null,null,null,null,null,"Radialventilator med B-hjul worst case 75% virkninsgrad"]
[null,null,null,"Trykstigning [Pa]","Volumenstrøm [m3/s]",null,null,null,null,null,null,null,null,null,null,"Trykstigning [Pa]","Volumenstrøm [m3/s]",null,null,null,null,null,null,null,null,null,null,null,null,"Virkningsgrad remtræk:",null,null,0.93]
[null,null,null,"Vælg",2,4,6,8,10,12,14,16,18,20,null,null,2,4,6,8,10,12,14,16,18,20,null,null,null,"Virkningsgrad motor",null,null,0.92500000000000004]
[null,null,null,200,{"$f":"(($D$53*E52)/($AG$51*$AG$52*0.55))/1000","v":0.84542020025890974},1.6908404005178195,2.5362606007767297,3.381680801035639,4.2271010012945487,5.0725212015534593,5.9179414018123682,6.7633616020712779,7.6087818023301876,8.4542020025890974,null,200,{"$f":"(($P$53*Q52)/($AG$51*$AG$52*0.75))/1000","v":0.61997481352320061},{"$f":"(($P$53*R52)/($AG$51*$AG$52*0.75))/1000","v":1.2399496270464012},1.8599244405696018,2.4798992540928024,3.0998740676160028,3.7198488811392036,4.339823694662404,4.9597985081856049,5.5797733217088057,6.1997481352320056]
[null,null,null,400,{"$f":"(($D$54*E52)/($AG$51*$AG$52*0.55))/1000","v":1.6908404005178195},3.381680801035639,5.0725212015534593,6.7633616020712779,8.4542020025890974,10.145042403106919,11.835882803624736,13.526723204142556,15.217563604660375,16.908404005178195,null,400,{"$f":"(($P$54*Q52)/($AG$51*$AG$52*0.75))/1000","v":1.2399496270464012},{"$f":"(($P$54*R52)/($AG$51*$AG$52*0.75))/1000","v":2.4798992540928024},3.7198488811392036,4.9597985081856049,6.1997481352320056,7.4396977622784073,8.6796473893248081,9.9195970163712097,11.159546643417611,{"$f":"(($P$54*Z52)/($AG$51*$AG$52*0.75))/1000","v":12.399496270464011}]
[null,null,null,600,{"$f":"(($D$55*E52)/($AG$51*$AG$52*0.55))/1000","v":2.5362606007767297},5.0725212015534593,7.6087818023301876,10.145042403106919,12.681303003883645,15.217563604660375,17.753824205437105,20.290084806213837,22.826345406990562,25.36260600776729,null,600,{"$f":"(($P$55*Q52)/($AG$51*$AG$52*0.75))/1000","v":1.8599244405696018},{"$f":"(($P$55*R52)/($AG$51*$AG$52*0.75))/1000","v":3.7198488811392036},5.5797733217088057,7.4396977622784073,9.2996222028480098,11.159546643417611,13.019471083987213,14.879395524556815,16.739319965126416,18.59924440569602]
[null,null,null,800,{"$f":"(($D$56*E52)/($AG$51*$AG$52*0.55))/1000","v":3.381680801035639},6.7633616020712779,10.145042403106919,13.526723204142556,16.908404005178195,20.290084806213837,23.671765607249473,27.053446408285112,30.435127209320751,33.81680801035639,null,800,{"$f":"(($P$56*Q52)/($AG$51*$AG$52*0.75))/1000","v":2.4798992540928024},{"$f":"(($P$56*R52)/($AG$51*$AG$52*0.75))/1000","v":4.9597985081856049},7.4396977622784073,9.9195970163712097,12.399496270464011,14.879395524556815,17.359294778649616,19.839194032742419,22.319093286835223,24.798992540928023]
[null,null,null,1000,{"$f":"(($D$57*E52)/($AG$51*$AG$52*0.55))/1000","v":4.2271010012945487},8.4542020025890974,12.681303003883645,16.908404005178195,21.135505006472744,25.36260600776729,29.58970700906184,33.81680801035639,38.043909011650939,42.271010012945489,null,1000,{"$f":"(($P$57*Q52)/($AG$51*$AG$52*0.75))/1000","v":3.0998740676160028},{"$f":"(($P$57*R52)/($AG$51*$AG$52*0.75))/1000","v":6.1997481352320056},9.2996222028480098,12.399496270464011,15.499370338080015,18.59924440569602,21.699118473312019,24.798992540928023,27.898866608544026,30.998740676160029]
[null,null,null,1200,{"$f":"(($D$58*E52)/($AG$51*$AG$52*0.55))/1000","v":5.0725212015534593},10.145042403106919,15.217563604660375,20.290084806213837,25.36260600776729,30.435127209320751,35.507648410874211,40.580169612427675,45.652690813981124,50.725212015534581,null,1200,{"$f":"(($P$58*Q52)/($AG$51*$AG$52*0.75))/1000","v":3.7198488811392036},{"$f":"(($P$58*R52)/($AG$51*$AG$52*0.75))/1000","v":7.4396977622784073},11.159546643417611,14.879395524556815,18.59924440569602,22.319093286835223,26.038942167974426,29.758791049113629,33.478639930252832,37.198488811392039]
[null,null,null,1400,{"$f":"(($D$59*E52)/($AG$51*$AG$52*0.55))/1000","v":5.9179414018123682},11.835882803624736,17.753824205437105,23.671765607249473,29.58970700906184,35.507648410874211,41.425589812686582,47.343531214498945,53.261472616311316,59.17941401812368,null,1400,{"$f":"(($P$59*Q52)/($AG$51*$AG$52*0.75))/1000","v":4.339823694662404},{"$f":"(($P$59*R52)/($AG$51*$AG$52*0.75))/1000","v":8.6796473893248081},13.019471083987213,17.359294778649616,21.699118473312019,26.038942167974426,30.378765862636829,34.718589557299232,39.058413251961639,43.398236946624039]
[null,null,null,1600,{"$f":"(($D$60*E52)/($AG$51*$AG$52*0.55))/1000","v":6.7633616020712779},13.526723204142556,20.290084806213837,27.053446408285112,33.81680801035639,40.580169612427675,47.343531214498945,54.106892816570223,60.870254418641501,67.633616020712779,null,1600,{"$f":"(($P$60*Q52)/($AG$51*$AG$52*0.75))/1000","v":4.9597985081856049},{"$f":"(($P$60*R52)/($AG$51*$AG$52*0.75))/1000","v":9.9195970163712097},14.879395524556815,19.839194032742419,24.798992540928023,29.758791049113629,34.718589557299232,39.678388065484839,44.638186573670446,49.597985081856045]
[null,null,null,1800,{"$f":"(($D$61*E52)/($AG$51*$AG$52*0.55))/1000","v":7.6087818023301876},15.217563604660375,22.826345406990562,30.435127209320751,38.043909011650939,45.652690813981124,53.261472616311316,60.870254418641501,68.479036220971679,76.087818023301878,null,1800,{"$f":"(($P$61*Q52)/($AG$51*$AG$52*0.75))/1000","v":5.5797733217088057},{"$f":"(($P$61*R52)/($AG$51*$AG$52*0.75))/1000","v":11.159546643417611},16.739319965126416,22.319093286835223,27.898866608544026,33.478639930252832,39.058413251961639,44.638186573670446,50.217959895379245,55.797733217088052]
[null,null,null,2000,{"$f":"(($D$62*E52)/($AG$51*$AG$52*0.55))/1000","v":8.4542020025890974},16.908404005178195,25.36260600776729,33.81680801035639,42.271010012945489,50.725212015534581,59.17941401812368,67.633616020712779,76.087818023301878,84.542020025890977,null,2000,{"$f":"(($P$62*Q52)/($AG$51*$AG$52*0.75))/1000","v":6.1997481352320056},{"$f":"(($P$62*R52)/($AG$51*$AG$52*0.75))/1000","v":12.399496270464011},18.59924440569602,24.798992540928023,30.998740676160029,37.198488811392039,43.398236946624039,49.597985081856045,55.797733217088052,61.997481352320058]
[null,null,null,2200,{"$f":"(($D$63*E52)/($AG$51*$AG$52*0.55))/1000","v":9.299622202848008},18.599244405696016,27.898866608544022,37.198488811392032,46.498111014240038,55.797733217088044,65.097355419936051,74.396977622784064,83.696599825632063,92.996222028480076,null,2200,{"$f":"(($P$63*Q52)/($AG$51*$AG$52*0.75))/1000","v":6.8197229487552065},{"$f":"(($P$63*R52)/($AG$51*$AG$52*0.75))/1000","v":13.639445897510413},20.459168846265619,27.278891795020826,34.098614743776032,40.918337692531239,47.738060641286445,54.557783590041652,{"$f":"(($P$63*Y52)/($AG$51*$AG$52*0.75))/1000","v":61.377506538796858},68.197229487552065]
[null,null,null,2400,{"$f":"(($D$64*E52)/($AG$51*$AG$52*0.55))/1000","v":10.145042403106919},20.290084806213837,30.435127209320751,40.580169612427675,50.725212015534581,60.870254418641501,71.015296821748422,81.160339224855349,91.305381627962248,101.45042403106916,null,2400,{"$f":"(($P$64*Q52)/($AG$51*$AG$52*0.75))/1000","v":7.4396977622784073},{"$f":"(($P$64*R52)/($AG$51*$AG$52*0.75))/1000","v":14.879395524556815},22.319093286835223,29.758791049113629,37.198488811392039,44.638186573670446,52.077884335948852,59.517582098227258,66.957279860505665,74.396977622784078]
[]
[]
[null,null,null,"Radialventilator med F-hjul best case 65% virkninsgrad",null,null,null,null,null,null,null,null,null,null,null,"Radialventilator med B-hjul best case 85% virkninsgrad"]
[null,null,null,"Trykstigning [Pa]","Volumenstrøm [m3/s]",null,null,null,null,null,null,null,null,null,null,"Trykstigning [Pa]","Volumenstrøm [m3/s]"]
[null,null,null,null,2,4,6,8,10,12,14,16,18,20,null,null,2,4,6,8,10,12,14,16,18,20]
[null,null,null,200,{"$f":"(($D$53*E69)/($AG$51*$AG$52*0.65))/1000","v":0.71535555406523132},1.4307111081304626,2.1460666621956941,2.8614222162609253,3.576777770326157,4.2921333243913882,5.0074888784566189,5.7228444325218506,6.4381999865870823,7.1535555406523139,null,200,{"$f":"(($P$70*Q69)/($AG$51*$AG$52*0.85))/1000","v":0.54703660016752997},{"$f":"(($P$70*R69)/($AG$51*$AG$52*0.85))/1000","v":1.0940732003350599},1.6411098005025897,2.1881464006701199,2.7351830008376496,3.2822196010051794,3.8292562011727096,4.3762928013402398,4.9233294015077691,5.4703660016752993]
[null,null,null,400,{"$f":"(($D$54*E69)/($AG$51*$AG$52*0.65))/1000","v":1.4307111081304626},2.8614222162609253,4.2921333243913882,5.7228444325218506,7.1535555406523139,8.5842666487827763,10.014977756913238,11.445688865043701,12.876399973174165,14.307111081304628,null,400,{"$f":"(($P$71*Q$69)/($AG$51*$AG$52*0.85))/1000","v":1.0940732003350599},{"$f":"(($P$71*R$69)/($AG$51*$AG$52*0.85))/1000","v":2.1881464006701199},3.2822196010051794,4.3762928013402398,5.4703660016752993,6.5644392020103588,7.6585124023454192,8.7525856026804796,9.8466588030155382,10.940732003350599]
[null,null,null,600,{"$f":"(($D$55*E69)/($AG$51*$AG$52*0.65))/1000","v":2.1460666621956941},4.2921333243913882,6.4381999865870823,8.5842666487827763,10.730333310978471,12.876399973174165,15.022466635369858,17.168533297565553,19.314599959761246,21.460666621956943,null,600,{"$f":"(($P$72*Q$69)/($AG$51*$AG$52*0.85))/1000","v":1.6411098005025897},{"$f":"(($P$72*R$69)/($AG$51*$AG$52*0.85))/1000","v":3.2822196010051794},4.9233294015077691,6.5644392020103588,8.2055490025129494,9.8466588030155382,11.487768603518129,13.128878404020718,14.769988204523308,16.411098005025899]
[null,null,null,800,{"$f":"(($D$56*E69)/($AG$51*$AG$52*0.65))/1000","v":2.8614222162609253},5.7228444325218506,8.5842666487827763,11.445688865043701,14.307111081304628,17.168533297565553,20.029955513826476,22.891377730087402,25.752799946348329,28.614222162609256,null,800,{"$f":"(($P$73*Q$69)/($AG$51*$AG$52*0.85))/1000","v":2.1881464006701199},{"$f":"(($P$73*R$69)/($AG$51*$AG$52*0.85))/1000","v":4.3762928013402398},6.5644392020103588,8.7525856026804796,10.940732003350599,13.128878404020718,15.317024804690838,17.505171205360959,19.693317606031076,21.881464006701197]
[null,null,null,1000,{"$f":"(($D$57*E69)/($AG$51*$AG$52*0.65))/1000","v":3.576777770326157},7.1535555406523139,10.730333310978471,14.307111081304628,17.883888851630783,21.460666621956943,25.037444392283099,28.614222162609256,32.190999932935412,35.767777703261565,null,1000,{"$f":"(($P$74*Q$69)/($AG$51*$AG$52*0.85))/1000","v":2.7351830008376496},{"$f":"(($P$74*R$69)/($AG$51*$AG$52*0.85))/1000","v":5.4703660016752993},8.2055490025129494,10.940732003350599,13.675915004188248,16.411098005025899,19.146281005863546,21.881464006701197,24.616647007538845,27.351830008376496]
[null,null,null,1200,{"$f":"(($D$58*E69)/($AG$51*$AG$52*0.65))/1000","v":4.2921333243913882},8.5842666487827763,12.876399973174165,17.168533297565553,21.460666621956943,25.752799946348329,30.044933270739715,34.337066595131105,38.629199919522492,42.921333243913885,null,1200,{"$f":"(($P$75*Q$69)/($AG$51*$AG$52*0.85))/1000","v":3.2822196010051794},{"$f":"(($P$75*R$69)/($AG$51*$AG$52*0.85))/1000","v":6.5644392020103588},9.8466588030155382,13.128878404020718,16.411098005025899,19.693317606031076,22.975537207036258,26.257756808041435,29.539976409046616,32.822196010051798]
[null,null,null,1400,{"$f":"(($D$59*E69)/($AG$51*$AG$52*0.65))/1000","v":5.0074888784566189},10.014977756913238,15.022466635369858,20.029955513826476,25.037444392283099,30.044933270739715,35.052422149196332,40.059911027652952,45.067399906109571,50.074888784566198,null,1400,{"$f":"(($P$76*Q$69)/($AG$51*$AG$52*0.85))/1000","v":3.8292562011727096},{"$f":"(($P$76*R$69)/($AG$51*$AG$52*0.85))/1000","v":7.6585124023454192},11.487768603518129,15.317024804690838,19.146281005863546,22.975537207036258,26.804793408208965,30.634049609381677,34.463305810554381,38.292562011727092]
[null,null,null,1600,{"$f":"(($D$60*E69)/($AG$51*$AG$52*0.65))/1000","v":5.7228444325218506},11.445688865043701,17.168533297565553,22.891377730087402,28.614222162609256,34.337066595131105,40.059911027652952,45.782755460174805,51.505599892696658,57.228444325218511,null,1600,{"$f":"(($P$77*Q$69)/($AG$51*$AG$52*0.85))/1000","v":4.3762928013402398},{"$f":"(($P$77*R$69)/($AG$51*$AG$52*0.85))/1000","v":8.7525856026804796},13.128878404020718,17.505171205360959,21.881464006701197,26.257756808041435,30.634049609381677,35.010342410721918,39.386635212062153,43.762928013402394]
[null,null,null,1800,{"$f":"(($D$61*E69)/($AG$51*$AG$52*0.65))/1000","v":6.4381999865870823},12.876399973174165,19.314599959761246,25.752799946348329,32.190999932935412,38.629199919522492,45.067399906109571,51.505599892696658,57.943799879283738,64.381999865870824,null,1800,{"$f":"(($P$78*Q$69)/($AG$51*$AG$52*0.85))/1000","v":4.9233294015077691},{"$f":"(($P$78*R$69)/($AG$51*$AG$52*0.85))/1000","v":9.8466588030155382},14.769988204523308,19.693317606031076,24.616647007538845,29.539976409046616,34.463305810554381,39.386635212062153,44.309964613569925,49.233294015077689]
[null,null,null,2000,{"$f":"(($D$62*E69)/($AG$51*$AG$52*0.65))/1000","v":7.1535555406523139},14.307111081304628,21.460666621956943,28.614222162609256,35.767777703261565,42.921333243913885,50.074888784566198,57.228444325218511,64.381999865870824,71.53555540652313,null,2000,{"$f":"(($P$79*Q$69)/($AG$51*$AG$52*0.85))/1000","v":5.4703660016752993},{"$f":"(($P$79*R$69)/($AG$51*$AG$52*0.85))/1000","v":10.940732003350599},16.411098005025899,21.881464006701197,27.351830008376496,32.822196010051798,38.292562011727092,43.762928013402394,49.233294015077689,54.703660016752991]
[null,null,null,2200,{"$f":"(($D$63*E69)/($AG$51*$AG$52*0.65))/1000","v":7.8689110947175447},15.737822189435089,23.606733284152632,31.475644378870179,39.344555473587725,47.213466568305265,55.082377663022811,62.951288757740357,70.82019985245789,78.68911094717545,null,2200,{"$f":"(($P$80*Q$69)/($AG$51*$AG$52*0.85))/1000","v":6.0174026018428295},{"$f":"(($P$80*R$69)/($AG$51*$AG$52*0.85))/1000","v":12.034805203685659},18.052207805528486,24.069610407371318,30.087013009214143,36.104415611056972,42.121818212899804,48.139220814742636,54.156623416585461,60.174026018428286]
[null,null,null,2400,{"$f":"(($D$64*E69)/($AG$51*$AG$52*0.65))/1000","v":8.5842666487827763},17.168533297565553,25.752799946348329,34.337066595131105,42.921333243913885,51.505599892696658,60.089866541479431,68.674133190262211,77.258399839044984,85.842666487827771,null,2400,{"$f":"(($P$81*Q$69)/($AG$51*$AG$52*0.85))/1000","v":6.5644392020103588},{"$f":"(($P$81*R$69)/($AG$51*$AG$52*0.85))/1000","v":13.128878404020718},19.693317606031076,26.257756808041435,32.822196010051798,39.386635212062153,45.951074414072515,52.51551361608287,59.079952818093233,65.644392020103595]
[]
[]
[null,null,null,"Besparelsespotentiale ved skift fra radialventilator med F-hjul til radialventilator med B-hjul worst case [kW]",null,null,null,null,null,null,null,null,null,null,null,"Besparelsespotentiale ved skift fra radialventilator med F-hjul til radialventilator med B-hjul best case [kW]"]
[null,null,null,"Trykstigning [Pa]","Volumenstrøm [m3/s]",null,null,null,null,null,null,null,null,null,null,"Trykstigning [Pa]","Volumenstrøm [m3/s]"]
[null,null,null,null,2,4,6,8,10,12,14,16,18,20,null,null,2,4,6,8,10,12,14,16,18,20]
[null,null,null,200,{"$f":"E53-Q53","v":0.22544538673570913},{"$f":"F53-R53","v":0.45089077347141826},0.67633616020712783,0.90178154694283652,1.1272269336785459,1.3526723204142557,1.5781177071499641,1.803563093885673,2.0290084806213819,2.2544538673570917,null,200,{"$f":"E70-Q70","v":0.16831895389770135},{"$f":"F70-R70","v":0.3366379077954027},0.50495686169310439,0.6732758155908054,0.84159476948850731,1.0099137233862088,1.1782326772839093,1.3465516311816108,1.5148705850793132,1.6831895389770146]
[null,null,null,400,{"$f":"E54-Q54","v":0.45089077347141826},0.90178154694283652,1.3526723204142557,1.803563093885673,2.2544538673570917,2.7053446408285113,3.1562354142999283,3.6071261877713461,4.0580169612427639,4.5089077347141835,null,400,{"$f":"E71-Q71","v":0.3366379077954027},0.6732758155908054,1.0099137233862088,1.3465516311816108,1.6831895389770146,2.0198274467724175,2.3564653545678187,2.6931032623632216,3.0297411701586263,3.3663790779540292]
[null,null,null,600,0.67633616020712783,1.3526723204142557,2.0290084806213819,2.7053446408285113,3.3816808010356354,4.0580169612427639,{"$f":"K55-W55","v":4.7343531214498924},5.4106892816570227,6.0870254418641458,6.7633616020712708,null,600,0.50495686169310439,1.0099137233862088,1.5148705850793132,2.0198274467724175,2.5247843084655219,3.0297411701586263,3.5346980318517289,4.0396548935448351,4.5446117552379377,5.0495686169310439]
[null,null,null,800,0.90178154694283652,1.803563093885673,2.7053446408285113,3.6071261877713461,4.5089077347141835,5.4106892816570227,6.3124708285998565,7.2142523755426922,8.1160339224855278,9.017815469428367,null,800,0.6732758155908054,1.3465516311816108,2.0198274467724175,2.6931032623632216,3.3663790779540292,4.0396548935448351,4.7129307091356374,5.3862065247264432,6.0594823403172526,6.7327581559080585]
[null,null,null,1000,1.1272269336785459,2.2544538673570917,3.3816808010356354,4.5089077347141835,5.6361346683927298,6.7633616020712708,7.8905885357498207,9.017815469428367,10.145042403106913,11.27226933678546,null,1000,0.84159476948850731,1.6831895389770146,2.5247843084655219,3.3663790779540292,4.2079738474425348,5.0495686169310439,5.8911633864195529,6.7327581559080585,7.5743529253965676,8.4159476948850696]
[null,null,null,1200,1.3526723204142557,2.7053446408285113,4.0580169612427639,5.4106892816570227,6.7633616020712708,8.1160339224855278,9.4687062428997848,10.821378563314045,12.174050883728292,13.526723204142542,null,1200,1.0099137233862088,2.0198274467724175,3.0297411701586263,4.0396548935448351,5.0495686169310439,6.0594823403172526,7.0693960637034579,8.0793097870896702,9.0892235104758754,10.099137233862088]
[null,null,null,1400,1.5781177071499641,3.1562354142999283,4.7343531214498924,6.3124708285998565,7.8905885357498207,9.4687062428997848,11.046823950049752,12.624941657199713,14.203059364349677,15.781177071499641,null,1400,1.1782326772839093,2.3564653545678187,3.5346980318517289,4.7129307091356374,5.8911633864195529,7.0693960637034579,8.2476287409873663,9.4258614182712748,10.60409409555519,11.782326772839106]
[null,null,null,1600,1.803563093885673,3.6071261877713461,5.4106892816570227,7.2142523755426922,9.017815469428367,10.821378563314045,12.624941657199713,14.428504751085384,16.232067844971056,18.035630938856734,null,1600,1.3465516311816108,2.6931032623632216,4.0396548935448351,5.3862065247264432,6.7327581559080585,8.0793097870896702,9.4258614182712748,10.772413049452886,12.118964680634505,13.465516311816117]
[null,null,null,1800,2.0290084806213819,4.0580169612427639,6.0870254418641458,8.1160339224855278,10.145042403106913,12.174050883728292,14.203059364349677,16.232067844971056,18.261076325592434,20.290084806213827,null,1800,1.5148705850793132,3.0297411701586263,4.5446117552379377,6.0594823403172526,7.5743529253965676,9.0892235104758754,10.60409409555519,12.118964680634505,13.633835265713813,15.148705850793135]
[null,null,null,2000,2.2544538673570917,4.5089077347141835,6.7633616020712708,9.017815469428367,11.27226933678546,13.526723204142542,15.781177071499641,18.035630938856734,20.290084806213827,22.544538673570919,null,2000,1.6831895389770146,3.3663790779540292,5.0495686169310439,6.7327581559080585,8.4159476948850696,10.099137233862088,11.782326772839106,13.465516311816117,15.148705850793135,16.831895389770139]
[null,null,null,2200,2.4798992540928015,4.9597985081856031,7.4396977622784028,9.9195970163712062,12.399496270464006,14.879395524556806,17.359294778649605,19.839194032742412,22.319093286835205,24.798992540928012,null,2200,1.8515084928747152,3.7030169857494304,5.5545254786241465,7.4060339714988608,9.2575424643735822,11.109050957248293,12.960559450123007,14.812067942997722,16.663576435872429,18.515084928747164]
[null,null,null,2400,2.7053446408285113,5.4106892816570227,8.1160339224855278,10.821378563314045,13.526723204142542,16.232067844971056,18.93741248579957,21.642757126628091,24.348101767456583,27.053446408285083,null,2400,2.0198274467724175,4.0396548935448351,6.0594823403172526,8.0793097870896702,10.099137233862088,12.118964680634505,14.138792127406916,16.15861957417934,18.178447020951751,20.198274467724175]
[]
[]
[null,null,null,"Besparelsespotentiale pr. ventilator ved skift fra radialventilator med F-hjul til radialventilator med B-hjul - min/maks [kW]"]
[null,null,null,"Trykstigning [Pa]","Volumenstrøm [m3/s]"]
[null,null,null,null,2,4,6,8,10,12,14,16,18,20]
[null,null,null,200,0.2,"0,3-0,4",{"$f":"G70-S70","v":0.50495686169310439},0.6732758155908054,0.84159476948850731,1.0099137233862088,1.1782326772839093,1.3465516311816108,1.5148705850793132,1.6831895389770146]
[null,null,null,400,"0,3-0,4","0,6-0,9",1.0099137233862088,1.3465516311816108,1.6831895389770146,2.0198274467724175,2.3564653545678187,2.6931032623632216,3.0297411701586263,3.3663790779540292]
[null,null,null,600,"0,6-0,5","1-1,3",1.5148705850793132,2.0198274467724175,2.5247843084655219,3.0297411701586263,{"$f":"K72-W72","v":3.5346980318517289},4.0396548935448351,4.5446117552379377,5.0495686169310439]
[null,null,null,800,"0,6-0,9","1,3-1,7",2.0198274467724175,2.6931032623632216,3.3663790779540292,4.0396548935448351,4.7129307091356374,5.3862065247264432,6.0594823403172526,6.7327581559080585]
[null,null,null,1000,"0,8-1,1","1,6-2,2",2.5247843084655219,3.3663790779540292,4.2079738474425348,5.0495686169310439,5.8911633864195529,6.7327581559080585,7.5743529253965676,8.4159476948850696]
[null,null,null,1200,"1-1,3","1,9-2,6",3.0297411701586263,4.0396548935448351,5.0495686169310439,6.0594823403172526,7.0693960637034579,8.0793097870896702,9.0892235104758754,10.099137233862088]
[null,null,null,1400,"1,1-1,5",{"$f":"F76-R76","v":2.3564653545678187},3.5346980318517289,4.7129307091356374,5.8911633864195529,7.0693960637034579,8.2476287409873663,9.4258614182712748,10.60409409555519,11.782326772839106]
[null,null,null,1600,"1,3-1,7",2.6931032623632216,4.0396548935448351,5.3862065247264432,6.7327581559080585,8.0793097870896702,9.4258614182712748,10.772413049452886,12.118964680634505,13.465516311816117]
[null,null,null,1800,"1,5-1,9",3.0297411701586263,4.5446117552379377,6.0594823403172526,7.5743529253965676,9.0892235104758754,10.60409409555519,12.118964680634505,13.633835265713813,15.148705850793135]
[null,null,null,2000,"1,6-2,2",3.3663790779540292,5.0495686169310439,6.7327581559080585,8.4159476948850696,10.099137233862088,11.782326772839106,13.465516311816117,15.148705850793135,16.831895389770139]
[null,null,null,2200,"1,8-2,4",3.7030169857494304,5.5545254786241465,7.4060339714988608,9.2575424643735822,11.109050957248293,12.960559450123007,14.812067942997722,16.663576435872429,18.515084928747164]
[null,null,null,2400,"1,9-2,6",4.0396548935448351,6.0594823403172526,8.0793097870896702,10.099137233862088,12.118964680634505,14.138792127406916,16.15861957417934,18.178447020951751,20.198274467724175]
[]
[]
[]
[null,null,null,null,null,null,null,null,"Vælg"]
[null,null,null,{"$f":"D50","v":"Radialventilator med F-hjul worst case 55% virkninsgrad"},null,null,null,null,0.55000000000000004]
[null,null,null,{"$f":"D67","v":"Radialventilator med F-hjul best case 65% virkninsgrad"},null,null,null,null,0.65]
[]
[null,null,null,null,null,null,null,null,"Vælg"]
[null,null,null,{"$f":"P50","v":"Radialventilator med B-hjul worst case 75% virkninsgrad"},null,null,null,null,0.75]
[null,null,null,{"$f":"P67","v":"Radialventilator med B-hjul best case 85% virkninsgrad"},null,null,null,null,0.85]

{"sheet":"Luftmængde + Veksler","index":8,"n_rows":124,"n_cols":5,"rows_kept":124,"cut":false,"hidden":false,"merged":[]}
[]
[]
["Hovedluftmængde [m³/h]"]
["I drift fra kl.:","Vælg"]
["I drift til kl.:","Vælg"]
["Timer pr. dag",{"$f":"IFERROR((B5-B4)*24,\"\")","v":""}]
["Dage pr. år"]
["Temperatur indblæsning","Vælg"]
["Nødvendig energi",{"$f":"IFERROR(('Tabel for nødvendig energiforb.'!K15-'Tabel for nødvendig energiforb.'!K13)*((B7*B6)/(365*B6))*B3,\"\")","v":""}]
["Vekslertype gl.","Vælg"]
["ηveksler",{"$f":"VLOOKUP(B10,$B$99:$C$112,2,FALSE)","v":"-"}]
["Vekslertype ny","Vælg"]
["ηveksler",{"$f":"VLOOKUP(B12,$B$99:$C$112,2,FALSE)","v":"-"}]
["Energibesparelse",{"$f":"IFERROR(B13*B9-B11*B9,\"\")","v":""}]
["Energikilde",{"$f":"Info!$B$12","v":"Fjernvarme"}]
["Pris pr. kWh",{"$f":"IFERROR(VLOOKUP(B15,Info!A18:B22,2,FALSE),\"\")","v":0.45}]
["Økonomisk besparelse",{"$f":"IFERROR(B14*B16,\"\")","v":""}]
["Investering"]
["Tilbagebetalingstid",{"$f":"IFERROR(B18/B17,\"\")","v":""}]
[]
[]
[]
[]
[]
[]
[]
[]
[]
[]
[]
[]
[]
[]
[]
[]
[]
[]
[]
[]
[]
[]
[]
[]
[]
[]
[]
[]
[]
[]
[]
[]
[]
[]
[]
[]
[]
[]
[]
[]
[]
[]
[]
[]
[]
[]
[]
[]
[]
[]
[]
[]
[]
[]
[]
[]
[]
[]
[]
[]
[]
[]
[]
[]
[]
[]
[]
[]
[]
[]
[]
[]
[]
[]
[]
[]
[]
[]
["Temperatur","Vekslertype","ηveksler","Energikilde","Driftstidspunkt"]
["Vælg","Vælg","-","Vælg","Vælg"]
[18,"Ingen",0,"Fjernvarme","00:00:00"]
[19,"Væskekoblede batterier  ( -1995 )",0.4,"Naturgas","01:00:00"]
[20,"Heatpipes ( -1995 )",0.45,"Olie","02:00:00"]
[21,"Væskekoblede batterier ( 1995-2006 )",0.5,"Pillefyr","03:00:00"]
[22,"Krydsvarmeveksler ( -1995 )",0.55000000000000004,"El","04:00:00"]
[23,"Heatpipes ( 1995-2006 )",0.55000000000000004,null,"05:00:00"]
[null,"Krydsvarmeveksler ( 1995-2006 )",0.6,null,"06:00:00"]
[null,"Roterende veksler ( -1995 )",0.65,null,"07:00:00"]
[null,"Krydsvarmeveksler ( 2007- )",0.65,null,"08:00:00"]
[null,"Roterende veksler ( 1995-2006 )",0.75,null,"09:00:00"]
[null,"Roterende veksler ( 2007- )",0.8,null,"10:00:00"]
[null,"Modstrømsveksler ( 1995-2006 )",0.85,null,"11:00:00"]
[null,"Modstrømsveksler ( 2007- )",0.88,null,"12:00:00"]
[null,null,null,null,"13:00:00"]
[null,null,null,null,"14:00:00"]
[null,null,null,null,"15:00:00"]
[null,null,null,null,"16:00:00"]
[null,null,null,null,"17:00:00"]
[null,null,null,null,"18:00:00"]
[null,null,null,null,"19:00:00"]
[null,null,null,null,"20:00:00"]
[null,null,null,null,"21:00:00"]
[null,null,null,null,"22:00:00"]
[null,null,null,null,"23:00:00"]
[null,null,null,null,1]

{"sheet":"Ventilation remtræk","index":9,"n_rows":19,"n_cols":15,"rows_kept":19,"cut":false,"hidden":true,"merged":[[2,9,2,14]]}
[]
[null,null,null,null,null,null,null,null,1,2,3,4,5,6,7]
[null,null,null,null,null,null,null,null,"Vælg","Typiske virkningsgrader\n[%]"]
["Motorstørrelse",10,null,null,null,null,null,null,"Remtræk med én almindelig kilerem",0.93,0.94,0.95,0.96,0.97,0.98]
["I drift fra kl.:","01:00:00",null,null,null,null,null,null,"Remtræk med flere almindelig kilerem",0.9,0.91,0.92,0.93]
["I drift til kl.:","20:00:00",null,null,null,null,null,null,"Remtræk med formfortandet kilerem",0.96,0.97,0.98]
["Timer pr. dag",{"$f":"IFERROR((B6-B5)*24,\"\")","v":18.999999999999993},null,null,null,null,null,null,"Poly-V rem",0.97,0.98,0.99]
["Dage pr. år",200,null,null,null,null,null,null,"Fladremstræk",0.97,0.98,0.99]
["Remtræk gl.","Remtræk med én almindelig kilerem",null,null,null,null,null,null,"Tandremstræk",0.97,0.98,0.99]
["Typisk virkningsgrad",0.93,null,null,null,null,null,null,"Direkte trukket ",1]
["Remtræk ny. ","Direkte trukket "]
["Typisk virkningsgrad",1]
["Energibesparelse",{"$f":"IFERROR(IF(B4*B7*B8*(B12-B10)<0,\"\",B4*B7*B8*(B12-B10)),\"\")","v":2659.9999999999973},null,null,null,null,null,"Gl","Vælg",{"$f":"IFERROR(IF(VLOOKUP($B$9,$I$4:$O$10,J2,FALSE)=0,\"\",VLOOKUP($B$9,$I$4:$O$10,J2,FALSE)),\"\")","v":0.93},{"$f":"IFERROR(IF(VLOOKUP($B$9,$I$4:$O$10,K2,FALSE)=0,\"\",VLOOKUP($B$9,$I$4:$O$10,K2,FALSE)),\"\")","v":0.94},0.95,0.96,0.97,0.98]
["Energikilde","El",null,null,null,null,null,"Ny","Vælg",{"$f":"IFERROR(IF(VLOOKUP($B$11,$I$4:$O$10,J2,FALSE)=0,\"\",VLOOKUP($B$11,$I$4:$O$10,J2,FALSE)),\"\")","v":1},{"$f":"IFERROR(IF(VLOOKUP($B$11,$I$4:$O$10,K2,FALSE)=0,\"\",VLOOKUP($B$11,$I$4:$O$10,K2,FALSE)),\"\")","v":""},"","","",""]
["ηenergikilde",1]
["Pris pr. kWh",{"$f":"IFERROR(VLOOKUP(B14,Info!A14:B22,2,FALSE),\"\")","v":1.6}]
["Økonomisk besparelse",{"$f":"IFERROR(B13*B16,\"\")","v":4255.9999999999955}]
["Investering",5000]
["Tilbagebetalingstid",{"$f":"IFERROR(B18/B17,\"\")","v":1.1748120300751892}]

{"sheet":"Belysning","index":10,"n_rows":28,"n_cols":11,"rows_kept":28,"cut":false,"hidden":false,"merged":[]}
["Belysning",null,null,null,null,"Anvendelse","Lyskilde","Inst. effekt [W/m2] ","Mulig udskiftning","Inst. effekt [W/m2] ","Årlig besparelse [kWh/m2/år]"]
["Område","Kontor","Mødelokale","Rest",null,"Gang u. bev. melder","gl. 2 rørs armatur",9,"LED panel",3.6,12.636000000000001]
["Areal",{"$f":"IFERROR(Info!$B$11*B4,\"\")","v":800},{"$f":"IFERROR(Info!$B$11*C4,\"\")","v":700},{"$f":"IFERROR(Info!$B$11*D4,\"\")","v":500},null,"Gang m. bev. melder","gl. 2 rørs armatur",7,"LED panel",2.8,9.8280000000000012]
["%-vis fordeling af områder",0.4,0.35,{"$f":"1-SUM(B4:C4)","v":0.25},null,"Kontor u. bev. melder","gl. 2 rørs armatur",18,"LED panel",4.95,30.537000000000003]
["I drift fra kl.:","07:00:00","08:00:00","07:00:00",null,"Kontor m. bev. melder","gl. 2 rørs armatur",14,"LED panel",3.8499999999999996,23.751000000000001]
["I drift til kl.:","17:00:00","17:00:00","17:00:00",null,"Reception","Lavvolt halogen",20,"LED panel",5.5,33.93]
["Timer pr. dag",{"$f":"IFERROR((B6-B5)*24,\"\")","v":9.999999999999984},{"$f":"IFERROR((C6-C5)*24,\"\")","v":9.0000000000000018},9.999999999999984,null,"Undervisning u. bev. melder","gl. 2 rørs armatur",18,"LED panel",4.95,30.537000000000003]
["Dage pr. år",220,220,220,null,"Undervisning m. bev. melder","gl. 2 rørs armatur",14,"LED panel",3.8499999999999996,23.751000000000001]
["Benyttelsesfaktor",0.8,0.3,0.5]
["Nuværende belysning (W/m²)",20,15,10]
["Fremtidig belysning - LED (W/m²)",{"$f":"IFERROR(IF(B12>0,\"\",VLOOKUP(B$2,$C$26:$D$28,2,FALSE)),\"\")","v":5},{"$f":"IFERROR(IF(C12>0,\"\",VLOOKUP(C$2,$C$26:$D$28,2,FALSE)),\"\")","v":5},{"$f":"IFERROR(IF(D12>0,\"\",VLOOKUP(D$2,$C$26:$D$28,2,FALSE)),\"\")","v":4}]
["- Anden fremtidig belysningseffekt"]
["Energibesparelse",{"$f":"IFERROR(IF(B3*B7*B8*B9*(B10-(IF(B12>0,B12,B11)))/1000<0,\"\",B3*B7*B8*B9*(B10-(IF(B12>0,B12,B11)))/1000),\"\")","v":21119.999999999971},{"$f":"IFERROR(IF(C3*C7*C8*C9*(C10-(IF(C12>0,C12,C11)))/1000<0,\"\",C3*C7*C8*C9*(C10-(IF(C12>0,C12,C11)))/1000),\"\")","v":4158.0000000000009},3299.9999999999945]
["Energikilde","El","El","El"]
["Pris pr. kWh",{"$f":"IFERROR(VLOOKUP(B14,Info!$A$18:$B$22,2,FALSE),\"\")","v":1.6},{"$f":"IFERROR(VLOOKUP(C14,Info!$A$18:$B$22,2,FALSE),\"\")","v":1.6},{"$f":"IFERROR(VLOOKUP(D14,Info!$A$18:$B$22,2,FALSE),\"\")","v":1.6}]
["Økonomisk besparelse",{"$f":"IFERROR(IF(B13=\"\",\"\",B15*B13),\"\")","v":33791.999999999956},{"$f":"IFERROR(IF(C13=\"\",\"\",C15*C13),\"\")","v":6652.800000000002},{"$f":"IFERROR(IF(D13=\"\",\"\",D15*D13),\"\")","v":5279.9999999999918}]
["Investering (anslået)",{"$f":"IFERROR(IF(B18>0,\"\",250*B3),\"\")","v":200000},{"$f":"IFERROR(IF(C18>0,\"\",250*C3),\"\")","v":175000},125000]
["Investering"]
["Vedligeholdelsesbesparelse",5000,3000,2000]
["Tilbagebetalingstid",{"$f":"IFERROR(IF(B18>0,B18,B17)/(B19+B16),\"\")","v":5.1557022066405507},{"$f":"IFERROR(IF(C18>0,C18,C17)/(C19+C16),\"\")","v":18.129454666003642},{"$f":"IFERROR(IF(D18>0,D18,D17)/(D19+D16),\"\")","v":17.170329670329689}]
[]
[]
[]
[]
[null,null,"Vælg","LED [W]"]
[null,null,"Kontor",5]
[null,null,"Mødelokale",5]
[null,null,"Rest",4]

{"sheet":"Solceller","index":11,"n_rows":69,"n_cols":22,"rows_kept":69,"cut":false,"hidden":false,"merged":[[20,6,20,7],[0,5,2,16],[3,5,3,6],[54,5,55,5]]}
[null,null,null,null,null,"Skemaet viser forventet elproduktion fra solceller i forhold til den optimale placering, som er en 35 graders hældning på syd-vendt tag. Tallet 100 svarer derfor til placeringen på taget for størst mulig elproduktion fra solcellerne. Tallene er angivet i procent."]
["Solceller"]
["Årlig energiforbrug [kWh]",225000]
["Retning","Vest",null,null,null,"Hældning på solceller",null,0,5,10,15,20,25,30,35,40,45,60,70,90]
["- retning i forhold til syd (0°)",90,null,null,{"$f":"IF(AND($B$4=F5,$B$5=G5),1,0)","v":1},"VEST",90,86,86,86,85,84,83,81,80,78,77,70,66,44]
["Hældning",30,null,null,{"$f":"IF(AND($B$4=F6,$B$5=G6),1,0)","v":0},"SYD VEST",60,86,88,89,90,91,91,91,90,89,88,83,78,64]
["Dækningsgrad af solceller [%]",0.3,null,null,{"$f":"IF(AND($B$4=F7,$B$5=G7),1,0)","v":0},"SYD VEST",45,86,89,91,92,93,94,94,94,94,93,88,82,68]
["Areal af solcelleanlæg ",{"$f":"IFERROR(B3/(V22*V23*1739*((VLOOKUP(1,$E$5:$T$15,MATCH($B$6,$H$4:$T$4,0)+3,FALSE))/100))*B7,\"\")","v":348.00479801175112},null,null,0,"SYD VEST",30,86,89,92,94,95,97,98,97,97,96,93,86,70]
["Energikilde","El",null,null,0,"SYD",15,86,90,93,95,97,98,99,99,99,99,94,88,72]
["Pris pr. kWh",{"$f":"IFERROR(VLOOKUP(B9,Info!$A$18:$B$22,2,FALSE),\"\")","v":1.6},null,null,0,"SYD",0,86,90,93,95,97,99,100,100,100,99,94,88,72]
["Økonomisk besparelse",{"$f":"IFERROR(B3*B7*B10,\"\")","v":108000},null,null,0,"SYD",15,86,90,93,95,97,98,99,99,99,99,94,87,72]
["Investering (anslået)",{"$f":"IFERROR(IF(B13>0,\"\",B8*V24),\"\")","v":1044014.3940352533},null,null,0,"SYD ØST",30,86,89,92,94,95,95,97,97,97,96,92,86,70]
["Investering",null,null,null,0,"SYD ØST",45,86,89,91,92,93,94,94,94,94,93,88,88,68]
["Tilbagebetalingstid",{"$f":"IFERROR(IF(B13>0,B13/B11,B12/B11),\"\")","v":9.6667999447708635},null,null,0,"SYD ØST",60,86,88,89,90,91,91,91,90,89,88,83,78,64]
[null,null,null,null,0,"ØST",90,86,86,86,85,84,83,81,80,78,77,70,66,44]
[]
[]
[]
[]
[]
[null,null,null,null,null,"Hældning","Retning",null,null,null,null,null,null,null,null,"Dækningsgrad",null,null,null,null,null,"Monokrystallinske silicium"]
[null,null,null,null,null,"Vælg","Vælg","Vælg","Vest","Syd Vest","Syd","Syd Øst","Øst",null,null,"Vælg",null,null,null,null,"Peak Power (RS)",0.16200000000000001]
[null,null,null,null,null,0,"Vest",{"$f":"IFERROR(HLOOKUP($B$4,$I$22:$M$25,2,FALSE),\"\")","v":90},90,60,0,30,90,null,null,0.05,null,null,null,null,"η",0.85]
[null,null,null,null,null,5,"Syd Vest",{"$f":"IFERROR(IF(HLOOKUP($B$4,$I$22:$M$25,3,FALSE)=0,\"\",HLOOKUP($B$4,$I$22:$M$25,3,FALSE)),\"\")","v":""},null,45,15,45,null,null,null,0.1,null,null,null,null,"Pris pr. m²",3000]
[null,null,null,null,null,10,"Syd",{"$f":"IFERROR(IF(HLOOKUP($B$4,$I$22:$M$25,4,FALSE)=0,\"\",HLOOKUP($B$4,$I$22:$M$25,4,FALSE)),\"\")","v":""},null,30,null,60,null,null,null,0.15]
[null,null,null,null,null,15,"Syd Øst",null,null,null,null,null,null,null,null,0.2]
[null,null,null,null,null,20,"Øst",null,null,null,null,null,null,null,null,0.25]
[null,null,null,null,null,25,null,null,null,null,null,null,null,null,null,0.3]
[null,null,null,null,null,30,null,null,null,null,null,null,null,null,null,0.35]
[null,null,null,null,null,35,null,null,null,null,null,null,null,null,null,0.4]
[null,null,null,null,null,40,null,null,null,null,null,null,null,null,null,0.45]
[null,null,null,null,null,45,null,null,null,null,null,null,null,null,null,0.5]
[null,null,null,null,null,60,null,null,null,null,null,null,null,null,null,0.55000000000000004]
[null,null,null,null,null,70,null,null,null,null,null,null,null,null,null,0.6]
[null,null,null,null,null,90,null,null,null,null,null,null,null,null,null,0.65]
[null,null,null,null,null,null,null,null,null,null,null,null,null,null,null,0.7]
[null,null,null,null,null,null,null,null,null,null,null,null,null,null,null,0.75]
[null,null,null,null,null,null,null,null,null,null,null,null,null,null,null,0.8]
[null,null,null,null,null,null,null,null,null,null,null,null,null,null,null,0.85]
[null,null,null,null,null,null,null,null,null,null,null,null,null,null,null,0.9]
[null,null,null,null,null,null,null,null,null,null,null,null,null,null,null,0.95]
[null,null,null,null,null,null,null,null,null,null,null,null,null,null,null,1]
[]
[]
[]
[]
[]
[]
[]
[]
[]
[]
[]
[]
[null,null,null,null,null,"Hældning på solceller","VEST","SYD VEST","SYD VEST","SYD VEST","SYD","SYD","SYD","SYD ØST","SYD ØST","SYD ØST","ØST"]
[null,null,null,null,null,null,90,60,45,30,15,0,15,30,45,60,90]
[null,null,null,null,null,0,86,86,86,86,86,86,86,86,86,86,86]
[null,null,null,null,null,5,86,88,89,89,90,90,90,89,89,88,86]
[null,null,null,null,null,10,86,89,91,92,93,93,93,92,91,89,86]
[null,null,null,null,null,15,85,90,92,94,95,95,95,94,92,90,85]
[null,null,null,null,null,20,84,91,93,95,97,97,97,95,93,91,84]
[null,null,null,null,null,25,83,91,94,97,98,99,98,95,94,91,83]
[null,null,null,null,null,30,81,91,94,98,99,100,99,97,94,91,81]
[null,null,null,null,null,35,80,90,94,97,99,100,99,97,94,90,80]
[null,null,null,null,null,40,78,89,94,97,99,100,99,97,94,89,78]
[null,null,null,null,null,45,77,88,93,96,99,99,99,96,93,88,77]
[null,null,null,null,null,60,70,83,88,93,94,94,94,92,88,83,70]
[null,null,null,null,null,70,66,78,82,86,88,88,87,86,88,78,66]
[null,null,null,null,null,90,44,64,68,70,72,72,72,70,68,64,44]

{"sheet":"Køl","index":12,"n_rows":11,"n_cols":2,"rows_kept":11,"cut":false,"hidden":false,"merged":[]}
["Køl"]
["Effektforbrug [kWh/år]"]
["- COP-værdi nuværende anlæg"]
["- COP-værdi fremtidigt anlæg"]
["Energibesparelse",{"$f":"IFERROR((B2/B3)-(B2/B4),\"\")","v":""}]
["Energikilde","El"]
["Pris pr. kWh",{"$f":"IFERROR(VLOOKUP(B6,Info!$A$18:$B$22,2,FALSE),\"\")","v":1.6}]
["Økonomisk besparelse",{"$f":"IFERROR(IF(B5=\"\",\"\",B7*B5),\"\")","v":""}]
["Investering"]
["Vedligeholdelsesbesparelse"]
["Tilbagebetalingstid",{"$f":"IFERROR(B9/(B10+B8),\"\")","v":""}]

{"sheet":"Tabel for nødvendig energiforb.","index":13,"n_rows":26,"n_cols":18,"rows_kept":26,"cut":false,"hidden":true,"merged":[[0,14,0,16],[1,11,1,12],[1,15,1,16],[10,9,10,10],[0,0,1,0],[0,1,0,6],[0,7,1,7],[0,10,0,12]]}
["Driftstid fra 0,00 til","Årligt energiforbrug kWh pr.m3 friskluft pr. time opvarmet til",null,null,null,null,null,"Procent-fordeling",null,null,"Nuværende",null,null,null,"Fremtidig"]
[null,18,19,20,21,22,23,null,null,null,"Vent.","Infiltration",null,null,"Vent.","Infiltration"]
[1,1.5,1.7,1.8,1.9,2.1,2.2000000000000002,4.9000000000000004,null,{"$f":"\"Energiforbrug til opvarming af udeluft til \" & 'Luftmængde + Veksler'!#REF! & \"C\" & \" ved åbning.\"","v":{"$error":"#REF!"}},{"$f":"IFERROR((VLOOKUP(('Luftmængde + Veksler'!#REF!*24),$A$3:$G$26,((MATCH('Luftmængde + Veksler'!#REF!,$B$2:$G$2,0))+1))),0)","v":0},{"$f":"IFERROR((VLOOKUP(('Luftmængde + Veksler'!#REF!*24),$A$3:$G$26,((MATCH('Luftmængde + Veksler'!#REF!,$B$2:$G$2,0))+1))),0)","v":0},{"$f":"IFERROR((VLOOKUP(('Luftmængde + Veksler'!#REF!*24),$A$3:$G$26,((MATCH('Luftmængde + Veksler'!#REF!,$B$2:$G$2,0))+1))),0)","v":0},null,{"$f":"IFERROR((VLOOKUP(('Luftmængde + Veksler'!#REF!*24),$A$3:$G$26,((MATCH('Luftmængde + Veksler'!#REF!,$B$2:$G$2,0))+1))),0)","v":0},{"$f":"IFERROR((VLOOKUP(('Luftmængde + Veksler'!#REF!*24),$A$3:$G$26,((MATCH('Luftmængde + Veksler'!#REF!,$B$2:$G$2,0))+1))),0)","v":0},{"$f":"IFERROR((VLOOKUP(('Luftmængde + Veksler'!#REF!*24),$A$3:$G$26,((MATCH('Luftmængde + Veksler'!#REF!,$B$2:$G$2,0))+1))),0)","v":0},"kWh"]
[2,3.1,3.4,3.7,4,4.3,4.5999999999999996,10]
[3,4.7,5.0999999999999996,5.5,6,6.4,6.9,15.1,null,{"$f":"\"Energiforbrug til opvarming af udeluft til \" & 'Luftmængde + Veksler'!#REF! & \"C\" & \" ved lukning.\"","v":{"$error":"#REF!"}},{"$f":"IFERROR(VLOOKUP(('Luftmængde + Veksler'!#REF!*24),$A$3:$G$26,((MATCH('Luftmængde + Veksler'!#REF!,$B$2:$G$2,0))+1)),0)","v":0},0,{"$f":"IFERROR(VLOOKUP(('Luftmængde + Veksler'!#REF!*24),$A$3:$G$26,((MATCH('Luftmængde + Veksler'!#REF!,$B$2:$G$2,0))+1)),0)","v":0},null,{"$f":"IFERROR(VLOOKUP(('Luftmængde + Veksler'!#REF!*24),$A$3:$G$26,((MATCH('Luftmængde + Veksler'!#REF!,$B$2:$G$2,0))+1)),0)","v":0},{"$f":"IFERROR(VLOOKUP(('Luftmængde + Veksler'!#REF!*24),$A$3:$G$26,((MATCH('Luftmængde + Veksler'!#REF!,$B$2:$G$2,0))+1)),0)","v":0},{"$f":"IFERROR(VLOOKUP(('Luftmængde + Veksler'!#REF!*24),$A$3:$G$26,((MATCH('Luftmængde + Veksler'!#REF!,$B$2:$G$2,0))+1)),0)","v":0},"kWh"]
[4,6.3,6.9,7.5,8.1,8.6999999999999993,9.3000000000000007,20.399999999999999]
[5,8,8.6999999999999993,9.4,10.1,10.9,11.6,25.6]
[6,9.6,10.5,11.3,12.2,13.1,14,30.85]
[7,11.2,12.2,13.2,14.3,15.3,16.399999999999999,36.049999999999997]
[8,12.6,13.8,14.9,16.100000000000001,17.3,18.5,40.6]
[9,14.1,15.4,16.7,18,19.399999999999999,20.7,45.5,null,"Dybe energirenoveringer"]
[10,15.4,16.8,18.2,19.7,21.1,22.6,49.65,null,null,"Vent."]
[11,16.600000000000001,18.100000000000001,19.600000000000001,21.1,22.7,24.3,53.35,null,{"$f":"\"Energiforbrug til opvarming af udeluft til \" & 'Luftmængde + Veksler'!B8 & \" °C\" & \" ved åbning.\"","v":"Energiforbrug til opvarming af udeluft til Vælg °C ved åbning."},{"$f":"IFERROR((VLOOKUP(('Luftmængde + Veksler'!B4*24),$A$3:$G$26,((MATCH('Luftmængde + Veksler'!B8,$B$2:$G$2,0))+1))),0)","v":0}]
[12,17.5,19.100000000000001,20.7,22.3,24,25.6,56.36]
[13,18.399999999999999,20.100000000000001,21.7,23.5,25.2,27,59.25,null,{"$f":"\"Energiforbrug til opvarming af udeluft til \" & 'Luftmængde + Veksler'!B8 & \" °C\" & \" ved lukning.\"","v":"Energiforbrug til opvarming af udeluft til Vælg °C ved lukning."},{"$f":"IFERROR(VLOOKUP(('Luftmængde + Veksler'!B5*24),$A$3:$G$26,((MATCH('Luftmængde + Veksler'!B8,$B$2:$G$2,0))+1)),0)","v":0}]
[14,19.3,21,22.8,24.6,26.4,28.3,62.1]
[15,20.2,22,23.8,25.7,27.7,29.6,65]
[16,21.1,23,24.9,26.9,28.9,30.9,67.849999999999994]
[17,22.1,24.1,26.1,28.1,30.2,32.299999999999997,71.05]
[18,23,25.1,27.2,29.4,31.6,33.700000000000003,74.150000000000006]
[19,24.2,26.4,28.5,30.8,33.1,35.4,77.849999999999994]
[20,25.4,27.6,29.9,32.299999999999997,34.700000000000003,37.1,81.599999999999994]
[21,26.7,29.1,31.5,34.1,36.6,39.1,86]
[22,28,30.5,33.1,35.700000000000003,38.4,41,90.15]
[23,29.5,32.1,34.799999999999997,37.6,40.4,43.2,94.85]
[24,31.1,33.9,36.700000000000003,39.6,42.6,45.5,100]